BEGIN:VCALENDAR
VERSION:2.0
PRODID:www.reiseland-brandenburg.de
BEGIN:VEVENT
UID:69ed85d8df593
DTSTART:20260531T090000Z
SEQUENCE:0
TRANSP:OPAQUE
DTEND:20260531T140000Z
URL:http://www.reiseland-brandenburg.de/veranstaltung/seenland-oder-spree/f
 ruehshoppen-auf-der-festwiese
LOCATION:Festwiese\, Seestraße 9a\, 15864 Wendisch Rietz
X-APPLE-STRUCTURED-LOCATION;VALUE=URI;X-ADDRESS="Festwiese, Seestraße 9a, 
 15864 Wendisch Rietz";X-APPLE-RADIUS=49;X-TITLE=Festwiese:geo:14.007269,52
 .210967
GEO:14.007269;52.210967
SUMMARY:Frühshoppen auf der Festwiese
CLASS:PUBLIC
DESCRIPTION:Frühschoppen auf der Festwiese in Wendisch Rietz am Scharmütz
 elsee.\n\nDer perfekte Ausklang eines gelungenen Festwochenendes. \n\nBei 
 bester Stimmung\, kühlen Getränken und guter Gesellschaft sorgt die Live
 -Musik mit Joes Bigband für mitreißende Klänge.\n\nIn entspannter Atmos
 phäre lässt sich das Wochenende noch einmal in vollen Zügen genießen\,
  bevor es mit vielen schönen Erinnerungen zu Ende geht.\n\nKontakt:\n\nHa
 us des Gastes\nKleine Promenade  1\n15684 Wendisch Rietz\nTelefon: +49 336
 79 648420\nEmail: tourismus@scharmuetzelsee.de\n\nWeitere Informationen zu
 r Veranstaltung: http://www.reiseland-brandenburg.de/veranstaltung/seenlan
 d-oder-spree/fruehshoppen-auf-der-festwiese
CATEGORIES:Fest / Brauchtum
DTSTAMP:20260426T032616Z
END:VEVENT
END:VCALENDAR