BEGIN:VCALENDAR
VERSION:2.0
PRODID:www.reiseland-brandenburg.de
BEGIN:VEVENT
UID:69ed44f89df6e
DTSTART:20260508T150000Z
SEQUENCE:0
TRANSP:OPAQUE
DTEND:20260508T200000Z
URL:http://www.reiseland-brandenburg.de/veranstaltung/seenland-oder-spree/l
 ange-nacht-der-museen-museum-fuerstenwalde
LOCATION:Museum Fürstenwalde\, Domplatz 7\, 15517 Fürstenwalde
X-APPLE-STRUCTURED-LOCATION;VALUE=URI;X-ADDRESS="Museum Fürstenwalde, Domp
 latz 7, 15517 Fürstenwalde";X-APPLE-RADIUS=49;X-TITLE=Museum Fürstenwald
 e:geo:14.063941,52.358274
GEO:14.063941;52.358274
SUMMARY:Lange Nacht der Museen - Museum Fürstenwalde
CLASS:PUBLIC
DESCRIPTION:Dieses Jahr beginnt das Museum Fürstenwalde die Lange Nacht\, 
 um 17.00 Uhr\, in der Dachetage der Kulturfabrik. Dort wollen wir in einem
  **Podiumsgespräch mit unseren Zeitzeugen** und dem Publikum über die sc
 hwere [„Zwischenzeit“ (1945-49)](https://www.zwischenzeit-fuerstenwald
 e.de/) reden.\n\nAnschließend lädt das Museum wie jedes Jahr zum Rundgan
 g durch die Stadtgeschichte. Natürlich werden wir auch unsere **tradition
 ellen Klemmkuchen** und andere Nahrungsmittel bereithalten.   \nAußerdem 
 wird es einen Stand mit **Pilzexpertin** zum Fachsimpeln\, sowie eine Stat
 ion zur Butterherstellung geben.\n\nEintritt für Erwachsene\, nur in dies
 er Nacht\, 3\,-€ pro Person\, Kinder und Jugendliche bis 18 Jahre frei.\
 n\nKontakt:\n\nMuseum Fürstenwalde\nDomplatz 7\n15517 Fürstenwalde/Spree
 \nTelefon: +49 03361 2130\nEmail: \n\nWeitere Informationen zur Veranstalt
 ung: http://www.reiseland-brandenburg.de/veranstaltung/seenland-oder-spree
 /lange-nacht-der-museen-museum-fuerstenwalde
CATEGORIES:Kinder und Jugendliche,Führung / Besichtigung
DTSTAMP:20260425T224928Z
END:VEVENT
END:VCALENDAR