BEGIN:VCALENDAR
VERSION:2.0
PRODID:www.reiseland-brandenburg.de
BEGIN:VEVENT
UID:69ed292ede84b
DTSTART:20260626T173000Z
SEQUENCE:0
TRANSP:OPAQUE
DTEND:20260626T193000Z
URL:http://www.reiseland-brandenburg.de/veranstaltung/seenland-oder-spree/k
 leines-kino-calle-malaga
LOCATION:CineStar\, Große Scharrnstraße 68-71\, 15230 Frankfurt (Oder)
X-APPLE-STRUCTURED-LOCATION;VALUE=URI;X-ADDRESS="CineStar, Große Scharrnst
 raße 68-71, 15230 Frankfurt (Oder)";X-APPLE-RADIUS=49;X-TITLE=CineStar:ge
 o:14.553374,52.343597
GEO:14.553374;52.343597
SUMMARY:Kleines Kino: Calle Málaga
CLASS:PUBLIC
DESCRIPTION:CineStar-Kino Frankfurt (Oder)\, Große Scharrnstr. 68-71  \nRe
 gie: Maryam Touzani  \nGenre: Drama  \nLand: Frankreich\, Spanien\, Belgie
 n\, Marokko  \nJahr: 2026  \nLaufzeit: 117 Minuten  \n\nMaría Ángeles\, 
 79\, lebt seit Jahrzehnten im spanischen Viertel von Tanger. Ihre Wohnung 
 in der Calle Málaga – voller Erinnerungen\, Blumen und alter Schätze 
 – ist ihr Lebensmittelpunkt. Vom Balkon aus beobachtet sie das Treiben d
 er Stadt\, ruhig und zufrieden in ihrer eigenen Welt. Doch als ihre Tochte
 r Clara beschließt\, die Wohnung zu verkaufen\, gerät dieses Gleichgewic
 ht ins Wanken. Ein Umzug ins Seniorenheim scheint unausweichlich. María 
 Ángeles weigert sich. Mit Witz\, Entschlossenheit und großer Lebensklugh
 eit beginnt sie\, für ihr Zuhause zu kämpfen. Dabei entstehen neue Verbi
 ndungen – und sie entdeckt Seiten an sich\, die sie längst verloren gla
 ubte. Ein warmherziger Film über Selbstbestimmung\, Würde und die Kraft\
 , den eigenen Weg zu gehen – unabhängig vom Alter.\n\nKontakt:\n\nKlein
 es Kino e.V.\nWarschauer Str. 16\n15234 Frankfurt (Oder)\nTelefon: +49 335
  64925\nEmail: info@kleines-kino.de\nWebseite: https://kleines-kino.de\n\n
 Weitere Informationen zur Veranstaltung: http://www.reiseland-brandenburg.
 de/veranstaltung/seenland-oder-spree/kleines-kino-calle-malaga
CATEGORIES:Film
DTSTAMP:20260425T205054Z
END:VEVENT
END:VCALENDAR