BEGIN:VCALENDAR
VERSION:2.0
PRODID:www.reiseland-brandenburg.de
BEGIN:VEVENT
UID:69ed281a04274
DTSTART:20260612T173000Z
SEQUENCE:0
TRANSP:OPAQUE
DTEND:20260612T193000Z
URL:http://www.reiseland-brandenburg.de/veranstaltung/seenland-oder-spree/k
 leines-kino-therapie-fuer-wikinger
LOCATION:CineStar\, Große Scharrnstraße 68-71\, 15230 Frankfurt (Oder)
X-APPLE-STRUCTURED-LOCATION;VALUE=URI;X-ADDRESS="CineStar, Große Scharrnst
 raße 68-71, 15230 Frankfurt (Oder)";X-APPLE-RADIUS=49;X-TITLE=CineStar:ge
 o:14.553374,52.343597
GEO:14.553374;52.343597
SUMMARY:Kleines Kino: Therapie für Wikinger
CLASS:PUBLIC
DESCRIPTION:CineStar-Kino Frankfurt (Oder)\, Große Scharrnstr. 68-71  \nRe
 gie: Anders Thomas Jensen  \nGenre: Komödie / Drama  \nLand: Dänemark  \
 nJahr: 2026  \nLaufzeit: 117 Minuten \n\nNach 15 Jahren Haft wird Anker au
 s dem Gefängnis entlassen. Damals hatte er gemeinsam mit seinem Bruder Ma
 nfred einen Bankraub begangen – die Beute wurde von Manfred versteckt. D
 och die Zeit hat Spuren hinterlassen: Manfred leidet an einer Identitätss
 törung und hat sich immer weiter von der Realität entfernt. Heute lebt e
 r in seiner eigenen Welt\, geprägt von Musik und wechselnden Persönlichk
 eiten – und kann sich nicht mehr daran erinnern\, wo das Geld vergraben 
 ist. In der Hoffnung\, alte Erinnerungen zu wecken\, bringt Anker seinen B
 ruder zurück in ihr gemeinsames Elternhaus. Doch die Zeit drängt: Ein eh
 emaliger Komplize ist ebenfalls auf der Suche nach der Beute. Zwischen sch
 warzem Humor\, skurrilen Situationen und emotionalen Momenten erzählt der
  Film von zwei Brüdern\, deren Beziehung zwischen Vergangenheit\, Schuld 
 und Hoffnung neu verhandelt wird.\n\nKontakt:\n\nKleines Kino e.V.\nWarsch
 auer Str. 16\n15234 Frankfurt (Oder)\nTelefon: +49 335 64925\nEmail: info@
 kleines-kino.de\nWebseite: https://kleines-kino.de\n\nWeitere Informatione
 n zur Veranstaltung: http://www.reiseland-brandenburg.de/veranstaltung/see
 nland-oder-spree/kleines-kino-therapie-fuer-wikinger
CATEGORIES:Film
DTSTAMP:20260425T204618Z
END:VEVENT
END:VCALENDAR