BEGIN:VCALENDAR
VERSION:2.0
PRODID:www.reiseland-brandenburg.de
BEGIN:VEVENT
UID:69ed86afcc98c
DTSTART:20260514T080000Z
SEQUENCE:0
TRANSP:OPAQUE
DTEND:20260514T160000Z
URL:http://www.reiseland-brandenburg.de/veranstaltung/seenland-oder-spree/h
 immelfahrt-bei-eddys-am-kanal
LOCATION:Gasthaus \"Eddy's am Kanal\"\, Hauptstraße 29\, 15864 Wendisch Ri
 etz
X-APPLE-STRUCTURED-LOCATION;VALUE=URI;X-ADDRESS="Gasthaus \"Eddy's am Kanal
 \", Hauptstraße 29, 15864 Wendisch Rietz";X-APPLE-RADIUS=49;X-TITLE="Gast
 haus \"Eddy's am Kanal\"":geo:14.005343,52.215200
GEO:14.005343;52.215200
SUMMARY:Himmelfahrt bei Eddy's am Kanal
CLASS:PUBLIC
DESCRIPTION:Verbringen Sie einen unvergesslichen Feiertag zu Himmelfahrt be
 i Eddy’s am idyllischen Kanal in Wendisch Rietz. \n\nFreuen Sie sich auf
  frisch Gegrilltes und dazu ein kühles Getränk in gemütlicher Atmosphä
 re. \n\nEin perfektes Ausflugsziel für alle\, die Kulinarik und Geselligk
 eit miteinander verbinden möchten.\n\nKontakt:\n\nGasthaus - Eddys am Kan
 al\nHauptstraße  29\n15864 Wendisch Rietz\nTelefon: +49 33679 434\nEmail:
  info@eddys-gasthaus.de\n\nWeitere Informationen zur Veranstaltung: http:/
 /www.reiseland-brandenburg.de/veranstaltung/seenland-oder-spree/himmelfahr
 t-bei-eddys-am-kanal
CATEGORIES:Fest / Brauchtum
DTSTAMP:20260426T032951Z
END:VEVENT
END:VCALENDAR