BEGIN:VCALENDAR
VERSION:2.0
PRODID:www.reiseland-brandenburg.de
BEGIN:VEVENT
UID:69ed1c84a15c1
DTSTART:20260514T080000Z
SEQUENCE:0
TRANSP:OPAQUE
DTEND:20260514T170000Z
URL:http://www.reiseland-brandenburg.de/veranstaltung/seenland-oder-spree/h
 immelfahrts-special-im-altstadtcafe-domichowski
LOCATION:Altstadtcafé Domichowski\, Altstadt 7\, 15859 Storkow (Mark)
X-APPLE-STRUCTURED-LOCATION;VALUE=URI;X-ADDRESS="Altstadtcafé Domichowski,
  Altstadt 7, 15859 Storkow (Mark)";X-APPLE-RADIUS=49;X-TITLE=Altstadtcafé
  Domichowski:geo:13.933346,52.256541
GEO:13.933346;52.256541
SUMMARY:Himmelfahrts Special im Altstadtcafé Domichowski
CLASS:PUBLIC
DESCRIPTION:Es erwartet Euch unter anderem Live-Musik mit der Band \"No Pla
 n\"\, Bier vom Fass\, Bratwurst & Cocktails.  \nKommt vorbei und feiert mi
 t uns in den Mai - mit guter Musik\, Bratwurst\, Cocktails und Bier vom Fa
 ss.\n\nKontakt:\n\nAltstadtcafe Domichowski\n\n \nTelefon: +49 033678  722
 01\nEmail: \n\nWeitere Informationen zur Veranstaltung: http://www.reisela
 nd-brandenburg.de/veranstaltung/seenland-oder-spree/himmelfahrts-special-i
 m-altstadtcafe-domichowski
CATEGORIES:Essen und Trinken
DTSTAMP:20260425T195652Z
END:VEVENT
END:VCALENDAR