BEGIN:VCALENDAR
VERSION:2.0
PRODID:www.reiseland-brandenburg.de
BEGIN:VEVENT
UID:69eca4a02d95e
DTSTART:20260501T140000Z
SEQUENCE:0
TRANSP:OPAQUE
DTEND:20260501T154500Z
URL:http://www.reiseland-brandenburg.de/veranstaltung/ruppiner-seenland/fru
 ehlingskonzert-mit-dem-georgischen-ensemble-maspindzeli-in-rheinsberg
LOCATION:St. Laurentius Kirche Rheinsberg\, Kirchstraße 1 1\, 16831 Rheins
 berg
X-APPLE-STRUCTURED-LOCATION;VALUE=URI;X-ADDRESS="St. Laurentius Kirche Rhei
 nsberg, Kirchstraße 1 1, 16831 Rheinsberg";X-APPLE-RADIUS=49;X-TITLE=St. 
 Laurentius Kirche Rheinsberg:geo:12.891691,53.099209
GEO:12.891691;53.099209
SUMMARY:Frühlingskonzert mit dem georgischen Ensemble Maspindzeli in Rhein
 sberg
CLASS:PUBLIC
DESCRIPTION:Am **1\\. Mai 2026 um 16 Uhr** gastiert der georgische **A-Capp
 ella-Chor Ensemble Maspindzeli** aus Samtredia mit einem außergewöhnlich
 en Konzert in der **St. Laurentius Kirche in Rheinsberg.**\n\nDas Konzertp
 rogramm umfasst **traditionelle georgische Melodien** \, die die kulturell
 e Vielfalt der Region widerspiegeln und einen faszinierenden Einblick in d
 ie **polyphone Gesangstradition des Landes** bieten. Polyphone Gesangstrad
 itionen existieren seit Jahrtausenden in Georgien und haben sich über die
  Zeit hinweg zu einer einzigartigen facettenreichen Kunstform entwickelt. 
 Die musikalischen Themen reichen von **Liebesliedern\, Tanzliedern\, Tafel
 liedern\, Arbeitsliedern über Lobpreisungen der Natur bis hin zu religiö
 sen Hymnen**. Durch ihre außergewöhnliche Schönheit und ihre kulturelle
  Bedeutung hat die georgische Chormusik weltweit Anerkennung gefunden und 
 zählt seit 2007 zum **immateriellen UNESCO Weltkulturerbe.**\n\nDas **Ens
 emble Maspindzeli** wurde 2011 in Samtredia in Westgeorgien gegründet und
  widmet sich seitdem mit Hingabe der Interpretation traditioneller georgis
 cher Lieder. Neben regelmäßigen Auftritten in der Kathedrale St. David A
 gmashenebeli in Samtredia ist das Ensemble häufig auf nationalen und inte
 rnationalen Festivals zu Gast.\n\n**Zu den Konzerten des Ensemble Maspindz
 eli laden wir Sie herzlich ein!** **Tauchen Sie ein in die magische Klangw
 elt Georgiens und lassen Sie sich von den herausragenden Stimmen der Säng
 er verzaubern**\n\n**_____________________________________________________
 ________________________________________**\n\n**1\\. Mai 2026\, 16:00 Uhr 
  **  \n**St. Laurentius Kirche Rheinsberg**  \nKirchstraße 1\, 16831 Rhei
 nsberg\n\n**Die Kirche ist barrierefrei zugänglich.**\n\n**______________
 __________________________________________________________________________
 _____**\n\n**Preis-/Einlassinformationen**\n\n**Ticket-Preis Vorverkauf: 1
 0\,00 EUR (inklusive MwSt)**  \n**Ticket-Preis Abendkasse: 15\,00 EUR (ink
 lusive MwSt)**\n\nRollstuhlfahrer*innen zahlen den vollen Preis\, eine Beg
 leitperson ist frei.\n\n**Ticketbestellung**\n\n**Alle Informationen zur T
 icketbestellung:** [**_kolchievents.com/tickets/_**](https://kolchievents.
 com/tickets/)\n\n**Unter dieser E-Mail-Adresse können Sie ebenfalls Ticke
 ts für unsere Konzerte bestellen:** [**_tickets@kolchievents.com_**](mail
 to:%20tickets@kolchievents.com)\n\nKontakt:\n\nKulturLeben Berlin - Schlü
 ssel zur Kultur e.V.\nStephanstraße 13 13\n10559 Berlin\nTelefon: +49 030
  235906970\nEmail: presse@kulturleben-berlin.de\nWebseite: https://kulturl
 eben-berlin.de/blog/2026/03/02/fruehlingskonzerte-mit-dem-georgischen-ense
 mble-maspindzeli-in-berlin-und-rheinsberg/\n\nWeitere Informationen zur Ve
 ranstaltung: http://www.reiseland-brandenburg.de/veranstaltung/ruppiner-se
 enland/fruehlingskonzert-mit-dem-georgischen-ensemble-maspindzeli-in-rhein
 sberg
CATEGORIES:Klassisches Konzert / Oper,Chor / Folklore / Volksmusik
DTSTAMP:20260425T112520Z
END:VEVENT
END:VCALENDAR