BEGIN:VCALENDAR
VERSION:2.0
PRODID:www.reiseland-brandenburg.de
BEGIN:VEVENT
UID:69ed4530e335c
DTSTART:20260508T150000Z
SEQUENCE:0
TRANSP:OPAQUE
DTEND:20260508T200000Z
URL:http://www.reiseland-brandenburg.de/veranstaltung/seenland-oder-spree/l
 ange-nacht-der-museen-herrenhaus-heinersdorf
LOCATION:Herrenhaus Heinersdorf\, Hauptstraße  36c\, 15518 Steinhöfel
X-APPLE-STRUCTURED-LOCATION;VALUE=URI;X-ADDRESS="Herrenhaus Heinersdorf, Ha
 uptstraße  36c, 15518 Steinhöfel";X-APPLE-RADIUS=49;X-TITLE=Herrenhaus H
 einersdorf:geo:14.214508,52.457152
GEO:14.214508;52.457152
SUMMARY:Lange Nacht der Museen - Herrenhaus Heinersdorf
CLASS:PUBLIC
DESCRIPTION:Das Herrenhaus steht unter Denkmalschutz\, ist derzeit nicht be
 wohnt und für die Öffentlichkeit nur zu besonderen Anlässen zugänglich
 . Der größte Teil des  Herrenhauses ist stark renovierungsbedürftig.\n\
 nZur Historie: Die erste Erwähnung Heinersdorfs als Templergut stammt aus
  dem Jahre 1244. 1569 wurde der Gutshof in Heinersdorf als Rittergut von Z
 acharias von Grünberg gegründet. Im 17. Jahrhundert gab Franz Ludwig von
  Meinders den Bau des Herrenhauses in Auftrag. 1802 ging es in Besitz der 
 Familie Schulz. Das Herrenhaus ist ein Frühwerk Karl Friedrich Schinkels\
 , die  erhaltenen Stuckarbeiten stammen aus dem ausgehenden 17. Jahrhunder
 t.\n\n**Programm:** 17 Uhr: Zauberhafte Erzählung für Kinder und Junggeb
 liebene mit Musik und Malea B.: „Orpheus und Eurydike“\, im Großen Sa
 al\, Einlass ab 16:30 Uhr\, Ab 18 Uhr Führungen durch Teile des Herrenhau
 ses – bitte Taschenlampe mitbringen!\n\n**Eintritt frei – Spenden erfr
 euen uns!**\n\nKontakt:\n\nHerrenhaus Heinersdorf\nHauptstraße 36c\n15518
  Steinhöfel\nTelefon: +49 033637 0000\nEmail: \n\nWeitere Informationen z
 ur Veranstaltung: http://www.reiseland-brandenburg.de/veranstaltung/seenla
 nd-oder-spree/lange-nacht-der-museen-herrenhaus-heinersdorf
CATEGORIES:Kinder und Jugendliche,Führung / Besichtigung
DTSTAMP:20260425T225025Z
END:VEVENT
END:VCALENDAR