BEGIN:VCALENDAR
VERSION:2.0
PRODID:www.reiseland-brandenburg.de
BEGIN:VEVENT
UID:69ebacda29c18
DTSTART:20260627T080000Z
SEQUENCE:0
TRANSP:OPAQUE
DTEND:20260627T110000Z
URL:http://www.reiseland-brandenburg.de/veranstaltung/flaeming/wildes-schre
 iben-i-kreatives-schreiben-in-der-natur
LOCATION:Kreisvolkshochschule Potsdam-Mittelmark\, Standort Bad Belzig\, Pu
 schkinstr.  13\, 14806 Bad Belzig
X-APPLE-STRUCTURED-LOCATION;VALUE=URI;X-ADDRESS="Kreisvolkshochschule Potsd
 am-Mittelmark, Standort Bad Belzig, Puschkinstr.  13, 14806 Bad Belzig";X-
 APPLE-RADIUS=49;X-TITLE="Kreisvolkshochschule Potsdam-Mittelmark, Standort
  Bad Belzig":geo:12.583506,52.144377
GEO:12.583506;52.144377
SUMMARY:Wildes Schreiben I Kreatives Schreiben in der Natur
CLASS:PUBLIC
DESCRIPTION:In diesem Kurs lassen wir Elfchen tanzen\, Sätze schimmern\, T
 exte glänzen\, Wortwolken durch den Himmel ziehen. Neben den Schreibübun
 gen bringen Auflockerungen\, spielerische Gehirngymnastik und faszinierend
 es Wissen zur Natur die Kreativität ins Fließen. Staunen\, Lachen und Fr
 eude sind das Hauptziel\, die Texte bekommen den Raum\, vorgelesen und geh
 ört zu werden.\n\nJede Jahreszeit hat ihre Besonderheiten. Himmelsblau un
 d Abendrot\, Sommerblumen in gelber\, rosa\, lila Blüte\, Libellen in sch
 illerndem Grün: Der Sommer ist die Zeit des Lichts und der leuchtenden Fa
 rben\, ein wunderbares Thema\, aus dem die Schreibimpulse für diesen Vorm
 ittag kommen. Die entstehenden Texte dürfen dabei gerne weiterwandern\, w
 enn ein anderes Thema sich zeigen will.\n\n**Hinweis**\n\nDer Kurs beginnt
  und endet im VHS-Gebäude\, dazwischen verbringen wir je nach Wetter circ
 a zwei Stunden draußen. Bitte mitbringen: wetterfeste Kleidung\, Schreibz
 eug\, einen Snack und ein Getränk\, Sitzkissen.\n\nKontakt:\n\nKreismusik
 schule und Kreisvolkshochschule Potsdam Mittelmark GmbH\nPuschkinstraße 1
 3\n14806 Bad Belzig\nTelefon: +49 33841 45430\nEmail: info@kvhs-pm.de\n\nW
 eitere Informationen zur Veranstaltung: http://www.reiseland-brandenburg.d
 e/veranstaltung/flaeming/wildes-schreiben-i-kreatives-schreiben-in-der-nat
 ur
CATEGORIES:Workshop / Seminar
DTSTAMP:20260424T174810Z
END:VEVENT
END:VCALENDAR