BEGIN:VCALENDAR
VERSION:2.0
PRODID:www.reiseland-brandenburg.de
BEGIN:VEVENT
UID:69ed4569a613b
DTSTART:20260508T150000Z
SEQUENCE:0
TRANSP:OPAQUE
DTEND:20260508T200000Z
URL:http://www.reiseland-brandenburg.de/veranstaltung/seenland-oder-spree/l
 ange-nacht-der-museen-kirche-hasenfelde
LOCATION:Kirche Hasenfelde\, Fürstenwalder Straße 13\, 15518 Steinhöfel
X-APPLE-STRUCTURED-LOCATION;VALUE=URI;X-ADDRESS="Kirche Hasenfelde, Fürste
 nwalder Straße 13, 15518 Steinhöfel";X-APPLE-RADIUS=49;X-TITLE=Kirche Ha
 senfelde:geo:14.063941,52.358274
GEO:14.063941;52.358274
SUMMARY:Lange Nacht der Museen - Kirche Hasenfelde
CLASS:PUBLIC
DESCRIPTION:Die Kirche Hasenfelde bietet zur Langen Nacht der Museen Kirche
 nführungen und Turmbesteigungen mit Blick bis in die Rauener Berge an. We
 iterhin wird eine Ausstellung „DEMENSCH“ zum Thema Demenz einmal ander
 s – nämlich mit Humor – präsentiert. Die einzig erhaltene Landow- Sc
 hleifladenorgel des Landes wird bespielt. Ebenso erwarten den Besucher bes
 ondere Schätze Hasenfeldes\, von alten Postkarten\, Urmesstischblatt von 
 1844 über die Straßburger Kupferbibel von Matthäus Merian aus dem Jahr 
 1630 und Geschichten aus dem alten Hasenfelde\, die rund um die Feuerschal
 e erzählt werden.   \nFürs leibliche Wohl wird mit verschiedenen Suppen\
 , wie u.a. Wildsoljanka gesorgt sein. Für die Freunde der veganen oder ve
 getarischen Ernährung wird eine Wildkräutersuppe und Knoblauchbrot angeb
 oten.   \nEs freut sich auf Ihren Besuch: Freundeskreis „Kultur – Kirc
 he – Hasenfelde e.V.“  \nEintritt auf Spendenbasis\n\nKontakt:\n\nEvan
 gelische Kirchengemeinde Hasenfelde\nFürstenwalder Straße 13\n15518 Stei
 nhöfel\nTelefon: +49 03361  735 6050\nEmail: \n\nWeitere Informationen zu
 r Veranstaltung: http://www.reiseland-brandenburg.de/veranstaltung/seenlan
 d-oder-spree/lange-nacht-der-museen-kirche-hasenfelde
CATEGORIES:Kinder und Jugendliche,Führung / Besichtigung
DTSTAMP:20260425T225121Z
END:VEVENT
END:VCALENDAR