BEGIN:VCALENDAR
VERSION:2.0
PRODID:www.reiseland-brandenburg.de
BEGIN:VEVENT
UID:69ed456387e62
DTSTART:20260508T150000Z
SEQUENCE:0
TRANSP:OPAQUE
DTEND:20260508T200000Z
URL:http://www.reiseland-brandenburg.de/veranstaltung/seenland-oder-spree/l
 ange-nacht-der-museen-dom-st-marien
LOCATION:Dom Fürstenwalde\, Domplatz 10\, 15517 Fürstenwalde
X-APPLE-STRUCTURED-LOCATION;VALUE=URI;X-ADDRESS="Dom Fürstenwalde, Domplat
 z 10, 15517 Fürstenwalde";X-APPLE-RADIUS=49;X-TITLE=Dom Fürstenwalde:geo
 :14.063941,52.358274
GEO:14.063941;52.358274
SUMMARY:Lange Nacht der Museen- Dom St. Marien
CLASS:PUBLIC
DESCRIPTION:Als ältestes Gebäude der Stadt erzählt der **Dom St. Marien*
 * spannende Geschichte mit älteren und jüngeren Steinen. Vor 30 Jahren w
 urde er nach dem Wiederaufbau eingeweiht. Seitdem ist das Haus nahezu täg
 lich geöffnet. Hier gibt es die seltenere Gelegenheit diesen besonderen R
 aum in abendlicher Stimmung zu entdecken.\n\nWährend der Langen Nacht der
  Museen können Sie die Ausstellung **„Kunst und Architektur im Bistum L
 ebus – Spurensuche in einer unentdeckten Kulturlandschaft“**  besuchen
 . Sie zeigt das faszinierende kunst- und bauhistorische Erbe des ehemalige
 n Bistums Lebus – mit eindrucksvollen Kirchen\, Klosterbauten und ländl
 ichen Gotteshäusern zwischen Oder und Spree.\n\nHerzlich Willkommen!\n\nK
 ontakt:\n\nDom Fürstenwalde\nDomplatz 10\n15517 Fürstenwalde/Spree\nTele
 fon: +49 03361 735 6050\nEmail: kirchenbuero-fuerstenwalde@ekkos.de\n\nWei
 tere Informationen zur Veranstaltung: http://www.reiseland-brandenburg.de/
 veranstaltung/seenland-oder-spree/lange-nacht-der-museen-dom-st-marien
CATEGORIES:Kinder und Jugendliche,Führung / Besichtigung
DTSTAMP:20260425T225115Z
END:VEVENT
END:VCALENDAR