BEGIN:VCALENDAR
VERSION:2.0
PRODID:www.reiseland-brandenburg.de
BEGIN:VEVENT
UID:69ed45639c4d3
DTSTART:20260508T150000Z
SEQUENCE:0
TRANSP:OPAQUE
DTEND:20260508T200000Z
URL:http://www.reiseland-brandenburg.de/veranstaltung/seenland-oder-spree/l
 ange-nacht-der-museen-im-mords-eck
LOCATION:Brauereimuseum Mords Eck\, Mühlenstraße 17\, 15517 Fürstenwalde
X-APPLE-STRUCTURED-LOCATION;VALUE=URI;X-ADDRESS="Brauereimuseum Mords Eck, 
 Mühlenstraße 17, 15517 Fürstenwalde";X-APPLE-RADIUS=49;X-TITLE=Brauerei
 museum Mords Eck:geo:14.063941,52.358274
GEO:14.063941;52.358274
SUMMARY:Lange Nacht der Museen im Mords Eck
CLASS:PUBLIC
DESCRIPTION:Begeben Sie sich bei uns auf eine Zeitreise\, im Keller tauchen
  Sie ein in die Geschichte des Hauses Mord und besichtigen die Gerätschaf
 ten\, mit denen hier produziert wurde.\n\nIn der Rundfunkausstellung erleb
 en Sie bei einer Vorführung die Entwicklung vom ersten Rundfunkempfänger
  bis zur Wendezeit.\n\nDie Alters – und Ehrenabteilung der Feuerwehr gew
 ährt Ihnen einen Blick in den Traditionsraum und eröffnet Interessantes 
 über die Rolle der Feuerwehr.\n\nUnser Polsterer führt Sie durch seine P
 olsterei.\n\nIm Biergarten können Sie den Abend bei verschiedenen Geträn
 ken und Deftigem vom Grill gemütlich ausklingen lassen.\n\nMusikalisch we
 rden wir den ganzen Abend von unserem Andreas begleitet.\n\nEintritt für 
 Erwachsene\, nur in dieser Nacht\, 3\,-€ pro Person\, Kinder und Jugendl
 iche bis 18. Jahre frei.\n\nKontakt:\n\nMords Eck\nMühlenstraße  17\n155
 17 Fürstenwalde\nTelefon: +49 03361 3718243\nEmail: \n\nWeitere Informati
 onen zur Veranstaltung: http://www.reiseland-brandenburg.de/veranstaltung/
 seenland-oder-spree/lange-nacht-der-museen-im-mords-eck
CATEGORIES:Kinder und Jugendliche,Führung / Besichtigung
DTSTAMP:20260425T225115Z
END:VEVENT
END:VCALENDAR