BEGIN:VCALENDAR
VERSION:2.0
PRODID:www.reiseland-brandenburg.de
BEGIN:VEVENT
UID:69ed4511bdfca
DTSTART:20260508T150000Z
SEQUENCE:0
TRANSP:OPAQUE
DTEND:20260508T200000Z
URL:http://www.reiseland-brandenburg.de/veranstaltung/region/lange-nacht-de
 r-museen-heimatstube-demnitz
LOCATION:Heimatstube Demnitz\, Dorfstr. 5\, 15518 Steinhöfel
X-APPLE-STRUCTURED-LOCATION;VALUE=URI;X-ADDRESS="Heimatstube Demnitz, Dorfs
 tr. 5, 15518 Steinhöfel";X-APPLE-RADIUS=49;X-TITLE=Heimatstube Demnitz:ge
 o:14.194907,52.384928
GEO:14.194907;52.384928
SUMMARY:Lange Nacht der Museen - Heimatstube Demnitz
CLASS:PUBLIC
DESCRIPTION:Erfahren Sie Dorfgeschichte\, vieles über die landwirtschaftli
 che Arbeit in vergangenen Zeiten\, DDR Geschichte und die Geschichte des K
 ünstlers und Pfarrers Claus Sperling.  \n  \nFür den Erhalt des geschich
 tlichen Gutes und für einen kleinen Imbiss wie Grillwurst und Getränke b
 itten wir um Spenden.\n\nKontakt:\n\nHeimststube Demnitz\nDorfstr.  5\n155
 18 Steinhöfel\nTelefon: +49 033636 27212\nEmail: \n\nWeitere Informatione
 n zur Veranstaltung: http://www.reiseland-brandenburg.de/veranstaltung/reg
 ion/lange-nacht-der-museen-heimatstube-demnitz
CATEGORIES:Kinder und Jugendliche,Führung / Besichtigung
DTSTAMP:20260425T224953Z
END:VEVENT
END:VCALENDAR