BEGIN:VCALENDAR
VERSION:2.0
PRODID:www.reiseland-brandenburg.de
BEGIN:VEVENT
UID:69ed0cd910d74
DTSTART:20260502T080000Z
SEQUENCE:0
TRANSP:OPAQUE
DTEND:20260502T100000Z
URL:http://www.reiseland-brandenburg.de/veranstaltung/seenland-oder-spree/a
 nradeln-mit-dem-gruenen-lutz
LOCATION:Burg Storkow\, Schloßstraße 6\, 15859 Storkow
X-APPLE-STRUCTURED-LOCATION;VALUE=URI;X-ADDRESS="Burg Storkow, Schloßstra
 ße 6, 15859 Storkow";X-APPLE-RADIUS=49;X-TITLE=Burg Storkow:geo:13.933009
 ,52.252929
GEO:13.933009;52.252929
SUMMARY:Anradeln mit dem grünen Lutz
CLASS:PUBLIC
DESCRIPTION:**Storkower Anradeln - kleine Friedensfahrt**\n\nStorkow radelt
  an – unterwegs mit Gästeführer Lutz Werner\, besser bekannt als „de
 r grüne Lutz“.\n\nStartpunkt ist der historische Burghof. Von hier aus 
 führt die Tour rund um den Storkower See – begleitet von spannenden Ane
 kdoten\, unterhaltsamen Geschichten und viel Wissenswertem über Natur\, G
 eschichte und die Besonderheiten der Region.\n\nDie abwechslungsreiche Str
 ecke bietet immer wieder neue Perspektiven auf die Landschaft und lädt da
 zu ein\, Storkow auf eine besondere Weise zu entdecken.\n\nRauf aufs Rad u
 nd Storkow neu erleben!\n\nKontakt:\n\nTourist-Information auf der Burg St
 orkow (Mark)\nSchlossstraße 6\n15859 Storkow (Mark)\nTelefon: +49 33678 7
 3108\nEmail: tourismus@storkow.de\n\nWeitere Informationen zur Veranstaltu
 ng: http://www.reiseland-brandenburg.de/veranstaltung/seenland-oder-spree/
 anradeln-mit-dem-gruenen-lutz
CATEGORIES:Kinder und Jugendliche,Radtouren
DTSTAMP:20260425T185001Z
END:VEVENT
END:VCALENDAR