BEGIN:VCALENDAR
VERSION:2.0
PRODID:www.reiseland-brandenburg.de
BEGIN:VEVENT
UID:69ed1c84d359d
DTSTART:20260508T150000Z
SEQUENCE:0
TRANSP:OPAQUE
DTEND:20260508T200000Z
URL:http://www.reiseland-brandenburg.de/veranstaltung/seenland-oder-spree/l
 ange-nacht-der-museen-burg-storkow
LOCATION:Burg Storkow\, Schloßstraße  6\, 15859 Storkow (Mark)
X-APPLE-STRUCTURED-LOCATION;VALUE=URI;X-ADDRESS="Burg Storkow, Schloßstra
 ße  6, 15859 Storkow (Mark)";X-APPLE-RADIUS=49;X-TITLE=Burg Storkow:geo:1
 3.933362,52.253412
GEO:13.933362;52.253412
SUMMARY:Lange Nacht der Museen- Burg Storkow
CLASS:PUBLIC
DESCRIPTION:21 Jahre Lange Nacht der Museen – die Burg Storkow lädt ein!
 \n\nErleben Sie eine ganz besondere Nacht auf der Burg Storkow: Anlässlic
 h der Langen Nacht der Museen erwarten Sie\, zusätzlich zu den Ausstellun
 gen\, zwei exklusive Führungen – nur an diesem Abend um 18:30 Uhr und 2
 0:00 Uhr. Unter dem Titel „Storkow im Mai 1945“ begleitet Sie Gästef
 ührer Lutz Werner auf eine spannende Zeitreise in die bewegten Tage des K
 riegsendes in der Region.\n\nMit multimedialen Installationen\, interaktiv
 en Elementen und einer außergewöhnlichen Raumgestaltung lädt die neue b
 arrierefreie Dauerausstellung der Burg Storkow zu einer faszinierenden Ent
 deckungsreise ein. Auf drei Etagen machen Stationen wie der „Gletschertu
 nnel“\, das „Bodenlabor“ oder die „Wunderkammer“ geologische\, 
 ökologische und kulturelle Zusammenhänge greifbar und lebendig. Ein weit
 eres Highlight ist die Sonderausstellung „Willkommen im Garten der alten
  Sorten“.\n\nSeien Sie nachts dabei und erleben Sie einen abwechslungsre
 ichen Abend auf der Burg Storkow – wir freuen uns auf Ihren Besuch!\n\nF
 ür nur 5 € Eintritt genießen Sie nicht nur die Führung\, sondern erha
 lten auch Zugang zu allen Ausstellungen der Burg.\n\nKontakt:\n\nTourist-I
 nformation auf der Burg Storkow (Mark)\nSchlossstraße 6\n15859 Storkow (M
 ark)\nTelefon: +49 33678 73108\nEmail: tourismus@storkow.de\n\nWeitere Inf
 ormationen zur Veranstaltung: http://www.reiseland-brandenburg.de/veransta
 ltung/seenland-oder-spree/lange-nacht-der-museen-burg-storkow
CATEGORIES:Kinder und Jugendliche,Führung / Besichtigung
DTSTAMP:20260425T195652Z
END:VEVENT
END:VCALENDAR