BEGIN:VCALENDAR
VERSION:2.0
PRODID:www.reiseland-brandenburg.de
BEGIN:VEVENT
UID:69ed4569e04e9
DTSTART:20260508T150000Z
SEQUENCE:0
TRANSP:OPAQUE
DTEND:20260508T200000Z
URL:http://www.reiseland-brandenburg.de/veranstaltung/seenland-oder-spree/l
 ange-nacht-der-museen-im-haus-brandenburg
LOCATION:Stiftung Brandenburg - Haus Brandenburg\, Parkallee 14\, 15517 Fü
 rstenwalde/Spree
X-APPLE-STRUCTURED-LOCATION;VALUE=URI;X-ADDRESS="Stiftung Brandenburg - Hau
 s Brandenburg, Parkallee 14, 15517 Fürstenwalde/Spree";X-APPLE-RADIUS=49;
 X-TITLE=Stiftung Brandenburg - Haus Brandenburg:geo:14.057184,52.365952
GEO:14.057184;52.365952
SUMMARY:Lange Nacht der Museen im Haus Brandenburg
CLASS:PUBLIC
DESCRIPTION:Das Haus Brandenburg der Stiftung Brandenburg versteht sich als
  Dokumentationszentrum für das ostbrandenburgische Vertreibungsgebiet ös
 tlich von Oder und Neiße und dessen Kultur und Geschichte. Wir öffnen un
 sere Türen für interessierte Besucher und präsentieren Zeugnisse und ei
 nmaliges Kulturgut der deutschen Kultur und Geschichte im östlichen Europ
 a. Sie finden in unserer Ausstellung museale Objekte\, auch zum Thema Fluc
 ht und Vertreibung\, aus der historischen Region Ostbrandenburg/Neumark. A
 ußerdem kann die Wanderausstellung „Reformation in Fürstenwalde“ des
  Museums Fürstenwalde in unserem Haus besichtigt werden\n\nKontakt:\n\nMu
 seum Fürstenwalde\nDomplatz 7\n15517 Fürstenwalde\nTelefon: \nEmail: \n\
 nWeitere Informationen zur Veranstaltung: http://www.reiseland-brandenburg
 .de/veranstaltung/seenland-oder-spree/lange-nacht-der-museen-im-haus-brand
 enburg
CATEGORIES:Kinder und Jugendliche,Führung / Besichtigung
DTSTAMP:20260425T225121Z
END:VEVENT
END:VCALENDAR