BEGIN:VCALENDAR
VERSION:2.0
PRODID:www.reiseland-brandenburg.de
BEGIN:VEVENT
UID:69ed44f88474f
DTSTART:20260508T150000Z
SEQUENCE:0
TRANSP:OPAQUE
DTEND:20260508T200000Z
URL:http://www.reiseland-brandenburg.de/veranstaltung/seenland-oder-spree/l
 ange-nacht-der-museen-heimatstube-briesen-mark
LOCATION:Heimatstube Briesen\, Karl-Marx-Str.  3\, 15518 Briesen (Mark)
X-APPLE-STRUCTURED-LOCATION;VALUE=URI;X-ADDRESS="Heimatstube Briesen, Karl-
 Marx-Str.  3, 15518 Briesen (Mark)";X-APPLE-RADIUS=49;X-TITLE=Heimatstube 
 Briesen:geo:14.276463,52.343331
GEO:14.276463;52.343331
SUMMARY:Lange Nacht der Museen- Heimatstube Briesen (Mark)
CLASS:PUBLIC
DESCRIPTION:Briesen entdecken – Geschichte erleben!\n\nZur 21. Langen Nac
 ht der Museen öffnet unser Museum seine Türen und lädt Sie herzlich zu 
 einer besonderen Zeitreise durch die Geschichte unseres Dorfes ein.\n\nFre
 uen Sie sich auf spannende Einblicke\, liebevoll zusammengetragene Exponat
 e und interessante Geschichten rund um Briesen und seine Menschen.\n\nErle
 ben Sie unsere Führungen durch das Museum und entdecken Sie\, was unser D
 orf so besonders macht.\n\nGenießen Sie dabei Würstchen mit Kartoffelsal
 at sowie erfrischende Getränke in gemütlicher Atmosphäre.\n\nKommen Sie
  vorbei\, tauschen Sie sich aus und verbringen Sie einen schönen Abend be
 i uns im Vereinshaus.\n\nKontakt:\n\nHeimatstube Briesen\nKarl-Marx Str 3\
 n15518 Briesen\nTelefon: +49 033607 59819\nEmail: \n\nWeitere Informatione
 n zur Veranstaltung: http://www.reiseland-brandenburg.de/veranstaltung/see
 nland-oder-spree/lange-nacht-der-museen-heimatstube-briesen-mark
CATEGORIES:Kinder und Jugendliche,Führung / Besichtigung
DTSTAMP:20260425T224928Z
END:VEVENT
END:VCALENDAR