BEGIN:VCALENDAR
VERSION:2.0
PRODID:www.reiseland-brandenburg.de
BEGIN:VEVENT
UID:69ed4511a4e0b
DTSTART:20260508T130000Z
SEQUENCE:0
TRANSP:OPAQUE
DTEND:20260508T200000Z
URL:http://www.reiseland-brandenburg.de/veranstaltung/seenland-oder-spree/l
 ange-nacht-der-museen-in-der-kulturbrennerei
LOCATION:Kulturbrennerei Streitberg\, Streitberg 49\, 15518 Langewahl
X-APPLE-STRUCTURED-LOCATION;VALUE=URI;X-ADDRESS="Kulturbrennerei Streitberg
 , Streitberg 49, 15518 Langewahl";X-APPLE-RADIUS=49;X-TITLE=Kulturbrennere
 i Streitberg:geo:14.163847,52.329093
GEO:14.163847;52.329093
SUMMARY:Lange Nacht der Museen in der Kulturbrennerei
CLASS:PUBLIC
DESCRIPTION:Ab 15 Uhr: Schaubrennen – Führungen – Verkosten  \nIm Hofg
 arten der Brennerei: Feuerschale – Knollen aus dem Dämpfer mit Quark\, 
 Leinöl und Speckstippe – Obstbrände & Liköre – Kaffee/Tee und ander
 e Getränke.\n\nDer Hofladen ist geöffnet.\n\nKontakt:\n\nMuseum Fürsten
 walde\nDomplatz 7\n15517 Fürstenwalde\nTelefon: +49  03361 2130\nEmail: \
 n\nWeitere Informationen zur Veranstaltung: http://www.reiseland-brandenbu
 rg.de/veranstaltung/seenland-oder-spree/lange-nacht-der-museen-in-der-kult
 urbrennerei
CATEGORIES:Kinder und Jugendliche,Führung / Besichtigung
DTSTAMP:20260425T224953Z
END:VEVENT
END:VCALENDAR