BEGIN:VCALENDAR
VERSION:2.0
PRODID:www.reiseland-brandenburg.de
BEGIN:VEVENT
UID:69ebbd8063e19
DTSTART:20260620T120000Z
SEQUENCE:0
TRANSP:OPAQUE
DTEND:20260620T180000Z
URL:http://www.reiseland-brandenburg.de/veranstaltung/barnimer-land/schlend
 ermeile
LOCATION:Schönower Straße\, Schönower Straße\, 16341 Panketal
X-APPLE-STRUCTURED-LOCATION;VALUE=URI;X-ADDRESS="Schönower Straße, Schön
 ower Straße, 16341 Panketal";X-APPLE-RADIUS=49;X-TITLE=Schönower Straße
 :geo:13.532526,52.659491
GEO:13.532526;52.659491
SUMMARY:Schlendermeile
CLASS:PUBLIC
DESCRIPTION:Am **20\\. Juni 2026** in der Zeit von **14-20 Uhr** findet die
  nächste **Schlendermeile** in Panketal statt. Sie findet trotz Baumaßna
 hmen auf der **Schönower Straße** statt.\n\nFür **_ortsansässige_** Un
 ternehmen und Vereine ist dies wieder eine gute Gelegenheit\, sich zu prä
 sentieren und mit den Panketalern ins Gespräch zu kommen. An zahlreichen 
 Ständen können Sie sich zu den Angeboten von Panketaler Firmen\, Vereine
 n und kommunalen Einrichtungen informieren. Umrahmt wird die Veranstaltung
  durch ein abwechslungsreiches Bühnenprogramm für die ganze Familie sowi
 e gastronomische Angebote. \n\nWir freuen uns auf Ihren Besuch!\n\nKontakt
 :\n\nGemeinde Panketal\nSchönower Straße 105\n16341 Panketal\nTelefon: \
 nEmail: \n\nWeitere Informationen zur Veranstaltung: http://www.reiseland-
 brandenburg.de/veranstaltung/barnimer-land/schlendermeile
CATEGORIES:Fest / Brauchtum
DTSTAMP:20260424T185913Z
END:VEVENT
END:VCALENDAR