BEGIN:VCALENDAR
VERSION:2.0
PRODID:www.reiseland-brandenburg.de
BEGIN:VEVENT
UID:69ed45313068d
DTSTART:20260508T150000Z
SEQUENCE:0
TRANSP:OPAQUE
DTEND:20260508T200000Z
URL:http://www.reiseland-brandenburg.de/veranstaltung/seenland-oder-spree/l
 ange-nacht-der-museen-brauereimuseum
LOCATION:Brauereimuseum Fürstenwalde\, Am Markt 1\, 15517 Fürstenwalde
X-APPLE-STRUCTURED-LOCATION;VALUE=URI;X-ADDRESS="Brauereimuseum Fürstenwal
 de, Am Markt 1, 15517 Fürstenwalde";X-APPLE-RADIUS=49;X-TITLE=Brauereimus
 eum Fürstenwalde:geo:14.063941,52.358274
GEO:14.063941;52.358274
SUMMARY:Lange Nacht der Museen - Brauereimuseum
CLASS:PUBLIC
DESCRIPTION:Fürstenwalde und sein Bier – Tauchen Sie ein in die fast 600
 -jährige Braugeschichte Fürstenwaldes! Im historischen Ratskeller erlebe
 n Sie\, wie sich die Stadt mit 104 Brauhäusern zur zweitgrößten Brausta
 dt Brandenburgs entwickelte. Erfahren Sie\, welche Rolle das Bier für das
  Bistum Lebus spielte und warum ein Fürstenwalder Braumeister zur Gründu
 ng der ersten japanischen Brauerei beitrug.\n\nSelbstverständlich kann da
 s frische Rathausbräu auch verkostet werden.\n\nKontakt:\n\nBrauereimuseu
 m Fürstenwalde\nAm Markt  1\n15517 Fürstenwalde\nTelefon: +49 03361 3773
 689\nEmail: \n\nWeitere Informationen zur Veranstaltung: http://www.reisel
 and-brandenburg.de/veranstaltung/seenland-oder-spree/lange-nacht-der-musee
 n-brauereimuseum
CATEGORIES:Kinder und Jugendliche,Führung / Besichtigung
DTSTAMP:20260425T225025Z
END:VEVENT
END:VCALENDAR