BEGIN:VCALENDAR
VERSION:2.0
PRODID:www.reiseland-brandenburg.de
BEGIN:VEVENT
UID:69ed42e03c882
DTSTART:20260508T150000Z
SEQUENCE:0
TRANSP:OPAQUE
DTEND:20260508T200000Z
URL:http://www.reiseland-brandenburg.de/veranstaltung/seenland-oder-spree/l
 ange-nacht-der-museen-pathologisch-sammlung-helios-klinikum
LOCATION:Helios Klinikum\, Pieskower Str 33\, 15526 Bad Saarow
X-APPLE-STRUCTURED-LOCATION;VALUE=URI;X-ADDRESS="Helios Klinikum, Pieskower
  Str 33, 15526 Bad Saarow";X-APPLE-RADIUS=49;X-TITLE=Helios Klinikum:geo:1
 4.058501,52.292886
GEO:14.058501;52.292886
SUMMARY:Lange Nacht der Museen - pathologisch Sammlung Helios Klinikum
CLASS:PUBLIC
DESCRIPTION:Entdecken Sie die faszinierende Welt der menschlichen Anatomie 
 – Eine Reise durch seltene Präparate.\n\nTauchen Sie ein in die einziga
 rtigen Geschichten\, die die Präparate in unserer pathologischanatomische
 n Sammlung des Instituts für Pathologie am Helios Klinikum Bad Saarow erz
 ählen. Bei uns erwarten Sie etwa 900 seltene Exponate\, die tiefere Einbl
 icke in den menschlichen Körper und seine Veränderungen bieten. Vom Flü
 ssigkeitspräparat bis zu Skelett- und Korrosionspräparaten –\n\njedes 
 Exponat verbindet Wissenschaft und Menschlichkeit und erinnert uns daran\,
  wie fragil und gleichzeitig stark das Leben ist.\n\nBesuchen Sie uns und 
 lassen Sie sich von der faszinierenden Welt der Medizin berühren.\n\nKont
 akt:\n\nHelios Klinikum\nPieskower Str. 33\n15526 Bad Saarow\nTelefon: +49
  033631  70\nEmail: \n\nWeitere Informationen zur Veranstaltung: http://ww
 w.reiseland-brandenburg.de/veranstaltung/seenland-oder-spree/lange-nacht-d
 er-museen-pathologisch-sammlung-helios-klinikum
CATEGORIES:Führung / Besichtigung
DTSTAMP:20260425T224032Z
END:VEVENT
END:VCALENDAR