BEGIN:VCALENDAR
VERSION:2.0
PRODID:www.reiseland-brandenburg.de
BEGIN:VEVENT
UID:69ed318930d6e
DTSTART:20260508T130000Z
SEQUENCE:0
TRANSP:OPAQUE
DTEND:20260508T200000Z
URL:http://www.reiseland-brandenburg.de/veranstaltung/seenland-oder-spree/2
 1-lange-nacht-der-museen
LOCATION:Museum Fürstenwalde\, Domplatz 7\, 15517 Fürstenwalde
X-APPLE-STRUCTURED-LOCATION;VALUE=URI;X-ADDRESS="Museum Fürstenwalde, Domp
 latz 7, 15517 Fürstenwalde";X-APPLE-RADIUS=49;X-TITLE=Museum Fürstenwald
 e:geo:14.063941,52.358274
GEO:14.063941;52.358274
SUMMARY:21. Lange Nacht der Museen
CLASS:PUBLIC
DESCRIPTION:Ein Abend\, viele Erlebnisse: Zur Langen Nacht der Museen öffn
 en zahlreiche Einrichtungen der Region ihre Türen – mit spannenden Auss
 tellungen\, musikalischen Programmpunkten und kulinarischen Angeboten.\n\n
 **Der Eintritt ist erstmalig ganz den Einrichtungen überlassen. Sicher is
 t:** Kinder und Jugendliche bis 18 Jahre haben freien Eintritt und Erwachs
 ene zahlen ermäßigten Eintritt oder werden um Spenden gebeten.\n\nEin Te
 il des Eintritts **fließt als Spende zurück in den Erhalt regionaler Kul
 turgüter**. So konnten in der Vergangenheit bereits Projekte wie die Reno
 vierung der Tempelberger Kirche und die Restaurierung des Beerfelder Altar
 s realisiert werden. Der Altar\, der jahrzehntelang in der Jänickendorfer
  Kirche stand\, kehrte durch diese Unterstützung an seinen Ursprungsort z
 urück und erstrahlt heute wieder in alter Pracht.\n\nBis zu 1.000 Besuche
 r*innen nutzen jährlich die Gelegenheit\, Geschichte einmal anders zu erl
 eben – musikalisch\, kulinarisch\, gemeinschaftlich.\n\nKontakt:\n\nMuse
 um Fürstenwalde\nDomplatz 7\n15517 Fürstenwalde/Spree\nTelefon: +49 0336
 1 2130\nEmail: \nWebseite: https://museum-fuerstenwalde.de/\n\nWeitere Inf
 ormationen zur Veranstaltung: http://www.reiseland-brandenburg.de/veransta
 ltung/seenland-oder-spree/21-lange-nacht-der-museen
CATEGORIES:Kinder und Jugendliche,Führung / Besichtigung
DTSTAMP:20260425T212633Z
END:VEVENT
BEGIN:VEVENT
UID:69ed318932d99
DTSTART:20260508T150000Z
SEQUENCE:0
TRANSP:OPAQUE
DTEND:20260508T200000Z
URL:http://www.reiseland-brandenburg.de/veranstaltung/seenland-oder-spree/2
 1-lange-nacht-der-museen
LOCATION:Museum Fürstenwalde\, Domplatz 7\, 15517 Fürstenwalde
X-APPLE-STRUCTURED-LOCATION;VALUE=URI;X-ADDRESS="Museum Fürstenwalde, Domp
 latz 7, 15517 Fürstenwalde";X-APPLE-RADIUS=49;X-TITLE=Museum Fürstenwald
 e:geo:14.063941,52.358274
GEO:14.063941;52.358274
SUMMARY:21. Lange Nacht der Museen
CLASS:PUBLIC
DESCRIPTION:Ein Abend\, viele Erlebnisse: Zur Langen Nacht der Museen öffn
 en zahlreiche Einrichtungen der Region ihre Türen – mit spannenden Auss
 tellungen\, musikalischen Programmpunkten und kulinarischen Angeboten.\n\n
 **Der Eintritt ist erstmalig ganz den Einrichtungen überlassen. Sicher is
 t:** Kinder und Jugendliche bis 18 Jahre haben freien Eintritt und Erwachs
 ene zahlen ermäßigten Eintritt oder werden um Spenden gebeten.\n\nEin Te
 il des Eintritts **fließt als Spende zurück in den Erhalt regionaler Kul
 turgüter**. So konnten in der Vergangenheit bereits Projekte wie die Reno
 vierung der Tempelberger Kirche und die Restaurierung des Beerfelder Altar
 s realisiert werden. Der Altar\, der jahrzehntelang in der Jänickendorfer
  Kirche stand\, kehrte durch diese Unterstützung an seinen Ursprungsort z
 urück und erstrahlt heute wieder in alter Pracht.\n\nBis zu 1.000 Besuche
 r*innen nutzen jährlich die Gelegenheit\, Geschichte einmal anders zu erl
 eben – musikalisch\, kulinarisch\, gemeinschaftlich.\n\nKontakt:\n\nMuse
 um Fürstenwalde\nDomplatz 7\n15517 Fürstenwalde/Spree\nTelefon: +49 0336
 1 2130\nEmail: \nWebseite: https://museum-fuerstenwalde.de/\n\nWeitere Inf
 ormationen zur Veranstaltung: http://www.reiseland-brandenburg.de/veransta
 ltung/seenland-oder-spree/21-lange-nacht-der-museen
CATEGORIES:Kinder und Jugendliche,Führung / Besichtigung
DTSTAMP:20260425T212633Z
END:VEVENT
END:VCALENDAR