BEGIN:VCALENDAR
VERSION:2.0
PRODID:www.reiseland-brandenburg.de
BEGIN:VEVENT
UID:69ed1b8b42069
DTSTART:20260510T140000Z
SEQUENCE:0
TRANSP:OPAQUE
DTEND:20260510T154500Z
URL:http://www.reiseland-brandenburg.de/veranstaltung/seenland-oder-spree/j
 unge-kuenstler-stellen-sich-vor-mauris-ensemble
LOCATION:Burg Storkow\, Schloßstraße 6\, 15859 Storkow
X-APPLE-STRUCTURED-LOCATION;VALUE=URI;X-ADDRESS="Burg Storkow, Schloßstra
 ße 6, 15859 Storkow";X-APPLE-RADIUS=49;X-TITLE=Burg Storkow:geo:13.933009
 ,52.252929
GEO:13.933009;52.252929
SUMMARY:Junge Künstler stellen sich vor - Mauris Ensemble
CLASS:PUBLIC
DESCRIPTION:Mauris Ensemble ist eine künstlerische Initiative\, die 2022 v
 on drei Musiker:innen ins Leben gerufen wurde: der Flötistin Magdalena Di
  Blasi\, dem Bratschisten Jan Czyżewski und dem Harfenisten Adrian Nowak.
  Ziel des Ensembles ist es\, eine eigene musikalische Sprache zu entwickel
 n\, die klassisches Repertoire\, improvisierte\, experimentelle und elektr
 onische Musik vereint sowie einen Raum für einen intimen Austausch mit de
 m Publikum und anderen Kunstschaffenden schafft.\n\nDas Ensemble entwickel
 t seine Tätigkeit kontinuierlich weiter und arbeitet mit zahlreichen reno
 mmierten Künstler:innen und Institutionen zusammen\, die das kreative Spe
 ktrum der Musiker erweitern. Die Musiker:innen des Mauris Ensemble lassen 
 sich in ihrer Arbeit von Offenheit gegenüber neuen Formen leiten\, die ü
 ber die etablierten Normen der klassischen Musik hinausgehen. Die Zusammen
 arbeit mit bildenden Künstler:innen\, die Arbeit mit Bewegung sowie mit e
 lektronischer Musik ist Ausdruck einer gemeinsam entwickelten Idee und zug
 leich der individuellen Bedürfnisse jedes einzelnen Ensemblemitglieds.\n\
 nMauris Ensemble:  \nMagdalena Di Blasi\, Flöte  \nJan Czyzewski\, Viola 
  \nAdrian Nowak\, Harfe\n\nWerke von J.P. Rameau\, A. Jolivet\, F. Martin\
 , T. Dubois\, J. Jongen\, G.F. Händel\, S. Karg-Elert\, L. Delibes\, C. D
 ebussy\, C. Saint-Saens u.a.\n\nKontakt:\n\nTourist-Information auf der Bu
 rg Storkow (Mark)\nSchlossstraße 6\n15859 Storkow (Mark)\nTelefon: +49 33
 678 73108\nEmail: tourismus@storkow.de\n\nWeitere Informationen zur Verans
 taltung: http://www.reiseland-brandenburg.de/veranstaltung/seenland-oder-s
 pree/junge-kuenstler-stellen-sich-vor-mauris-ensemble
CATEGORIES:Klassisches Konzert / Oper
DTSTAMP:20260425T195243Z
END:VEVENT
END:VCALENDAR