BEGIN:VCALENDAR
VERSION:2.0
PRODID:www.reiseland-brandenburg.de
BEGIN:VEVENT
UID:69ed07b591bf9
DTSTART:20260501T130000Z
SEQUENCE:0
TRANSP:OPAQUE
DTEND:20260501T134500Z
URL:http://www.reiseland-brandenburg.de/veranstaltung/seenland-oder-spree/b
 erliner-rittergilde-die-grosse-belagerung-von-burg-storkow
LOCATION:Burg Storkow\, Schloßstraße 6\, 15859 Storkow
X-APPLE-STRUCTURED-LOCATION;VALUE=URI;X-ADDRESS="Burg Storkow, Schloßstra
 ße 6, 15859 Storkow";X-APPLE-RADIUS=49;X-TITLE=Burg Storkow:geo:13.933009
 ,52.252929
GEO:13.933009;52.252929
SUMMARY:Berliner Rittergilde \"Die große Belagerung von Burg Storkow\"
CLASS:PUBLIC
DESCRIPTION:Seit Jahren sind die Mitglieder der Berliner Rittergilde die tr
 euen Begleiter auf Storkower Festen und bei gemeinsamen Projekten. \n\nJed
 en zweiten Sonntag trainiert ihre Burgwache vor den Toren der Burg Storkow
 .\n\nNun feiern sie am **1\\. Mai ihr 20-jähriges Bestehen** und präsent
 ieren für Besucher an diesem **Feiertag um 15 und 17 Uhr** eine große Ka
 mpfshow mit Rittern\, Pferden\, Bogenschießen\, Schwertern\, Katapulten u
 nd vielem mehr. Es wird die größte Belagerung aller Zeiten – ein Spekt
 akel\, das ihr euch nicht entgehen lassen solltet!\n\nKontakt:\n\nTourist-
 Information auf der Burg Storkow (Mark)\nSchlossstraße 6\n15859 Storkow (
 Mark)\nTelefon: +49 33678 73108\nEmail: tourismus@storkow.de\n\nWeitere In
 formationen zur Veranstaltung: http://www.reiseland-brandenburg.de/veranst
 altung/seenland-oder-spree/berliner-rittergilde-die-grosse-belagerung-von-
 burg-storkow
CATEGORIES:Fest / Brauchtum
DTSTAMP:20260425T182805Z
END:VEVENT
BEGIN:VEVENT
UID:69ed07b599ee0
DTSTART:20260501T150000Z
SEQUENCE:0
TRANSP:OPAQUE
DTEND:20260501T154500Z
URL:http://www.reiseland-brandenburg.de/veranstaltung/seenland-oder-spree/b
 erliner-rittergilde-die-grosse-belagerung-von-burg-storkow
LOCATION:Burg Storkow\, Schloßstraße 6\, 15859 Storkow
X-APPLE-STRUCTURED-LOCATION;VALUE=URI;X-ADDRESS="Burg Storkow, Schloßstra
 ße 6, 15859 Storkow";X-APPLE-RADIUS=49;X-TITLE=Burg Storkow:geo:13.933009
 ,52.252929
GEO:13.933009;52.252929
SUMMARY:Berliner Rittergilde \"Die große Belagerung von Burg Storkow\"
CLASS:PUBLIC
DESCRIPTION:Seit Jahren sind die Mitglieder der Berliner Rittergilde die tr
 euen Begleiter auf Storkower Festen und bei gemeinsamen Projekten. \n\nJed
 en zweiten Sonntag trainiert ihre Burgwache vor den Toren der Burg Storkow
 .\n\nNun feiern sie am **1\\. Mai ihr 20-jähriges Bestehen** und präsent
 ieren für Besucher an diesem **Feiertag um 15 und 17 Uhr** eine große Ka
 mpfshow mit Rittern\, Pferden\, Bogenschießen\, Schwertern\, Katapulten u
 nd vielem mehr. Es wird die größte Belagerung aller Zeiten – ein Spekt
 akel\, das ihr euch nicht entgehen lassen solltet!\n\nKontakt:\n\nTourist-
 Information auf der Burg Storkow (Mark)\nSchlossstraße 6\n15859 Storkow (
 Mark)\nTelefon: +49 33678 73108\nEmail: tourismus@storkow.de\n\nWeitere In
 formationen zur Veranstaltung: http://www.reiseland-brandenburg.de/veranst
 altung/seenland-oder-spree/berliner-rittergilde-die-grosse-belagerung-von-
 burg-storkow
CATEGORIES:Fest / Brauchtum
DTSTAMP:20260425T182805Z
END:VEVENT
END:VCALENDAR