BEGIN:VCALENDAR
VERSION:2.0
PRODID:www.reiseland-brandenburg.de
BEGIN:VEVENT
UID:69ebb7ec8c511
DTSTART:20260502T120000Z
SEQUENCE:0
TRANSP:OPAQUE
DTEND:20260502T160000Z
URL:http://www.reiseland-brandenburg.de/veranstaltung/havelland/offene-atel
 iers-2026-atelier-bettina-engel
LOCATION:Atelier Bettina Engel\, Kulturpavillon Nicolaiplatz 1\, 14770 Bran
 denburg an der Havel
X-APPLE-STRUCTURED-LOCATION;VALUE=URI;X-ADDRESS="Atelier Bettina Engel, Kul
 turpavillon Nicolaiplatz 1, 14770 Brandenburg an der Havel";X-APPLE-RADIUS
 =49;X-TITLE=Atelier Bettina Engel:geo:12.550658,52.411977
GEO:12.550658;52.411977
SUMMARY:Offene Ateliers 2026 - Atelier Bettina Engel
CLASS:PUBLIC
DESCRIPTION:Malerei\, Grafik/Skripturale Grafik\, Mixed-Media\, Schmuckobje
 kte\n\nDADA-spielSCHREIB-WEIs/ß: ein experimenteller Schreibraum und DIAL
 OG-MALEN_WEIß: mehrere Stimmen ein Bild\n\nEin besonderes Highlight in di
 esem Jahr:\n\nEine kostenlose Mappe steht allen Interessierten zur Verfüg
 ung! Diese kann bereits eine Woche vor den Offenen Ateliers in der Kunstha
 lle abgeholt werden.\n\nDie Kunstmappe lädt dazu ein\, individuell befül
 lt zu werden – mit Skizzen\, Drucken\, kleinen Originalen\, Stempeln ode
 r anderen kreativen Beiträgen aus den teilnehmenden Ateliers. So entsteht
  eine ganz persönliche Sammlung und bleibende Erinnerung an das Kunstwoch
 enende. Ab eine Woche vor dem Veranstaltungswochenende in der Kunsthalle B
 rennabor\, Geschwister-Scholl-Straße 12 (Fr\, Sa und So: 13 – 18 Uhr) o
 der direkt am Kunstwochenende.\n\nKontakt:\n\nKulturbüro der Stadt Brande
 nburg an der Havel\nJohanneskirchplatz 4\n14770 Brandenburg an der Havel\n
 Telefon: +49 3381 587070\nEmail: kultur@stadt-brandenburg.de\nWebseite: ht
 tps://kulturbuero.stadt-brandenburg.de/\n\nWeitere Informationen zur Veran
 staltung: http://www.reiseland-brandenburg.de/veranstaltung/havelland/offe
 ne-ateliers-2026-atelier-bettina-engel
CATEGORIES:Ausstellung
DTSTAMP:20260424T183524Z
END:VEVENT
BEGIN:VEVENT
UID:69ebb7ec8c7ff
DTSTART:20260503T090000Z
SEQUENCE:0
TRANSP:OPAQUE
DTEND:20260503T160000Z
URL:http://www.reiseland-brandenburg.de/veranstaltung/havelland/offene-atel
 iers-2026-atelier-bettina-engel
LOCATION:Atelier Bettina Engel\, Kulturpavillon Nicolaiplatz 1\, 14770 Bran
 denburg an der Havel
X-APPLE-STRUCTURED-LOCATION;VALUE=URI;X-ADDRESS="Atelier Bettina Engel, Kul
 turpavillon Nicolaiplatz 1, 14770 Brandenburg an der Havel";X-APPLE-RADIUS
 =49;X-TITLE=Atelier Bettina Engel:geo:12.550658,52.411977
GEO:12.550658;52.411977
SUMMARY:Offene Ateliers 2026 - Atelier Bettina Engel
CLASS:PUBLIC
DESCRIPTION:Malerei\, Grafik/Skripturale Grafik\, Mixed-Media\, Schmuckobje
 kte\n\nDADA-spielSCHREIB-WEIs/ß: ein experimenteller Schreibraum und DIAL
 OG-MALEN_WEIß: mehrere Stimmen ein Bild\n\nEin besonderes Highlight in di
 esem Jahr:\n\nEine kostenlose Mappe steht allen Interessierten zur Verfüg
 ung! Diese kann bereits eine Woche vor den Offenen Ateliers in der Kunstha
 lle abgeholt werden.\n\nDie Kunstmappe lädt dazu ein\, individuell befül
 lt zu werden – mit Skizzen\, Drucken\, kleinen Originalen\, Stempeln ode
 r anderen kreativen Beiträgen aus den teilnehmenden Ateliers. So entsteht
  eine ganz persönliche Sammlung und bleibende Erinnerung an das Kunstwoch
 enende. Ab eine Woche vor dem Veranstaltungswochenende in der Kunsthalle B
 rennabor\, Geschwister-Scholl-Straße 12 (Fr\, Sa und So: 13 – 18 Uhr) o
 der direkt am Kunstwochenende.\n\nKontakt:\n\nKulturbüro der Stadt Brande
 nburg an der Havel\nJohanneskirchplatz 4\n14770 Brandenburg an der Havel\n
 Telefon: +49 3381 587070\nEmail: kultur@stadt-brandenburg.de\nWebseite: ht
 tps://kulturbuero.stadt-brandenburg.de/\n\nWeitere Informationen zur Veran
 staltung: http://www.reiseland-brandenburg.de/veranstaltung/havelland/offe
 ne-ateliers-2026-atelier-bettina-engel
CATEGORIES:Ausstellung
DTSTAMP:20260424T183524Z
END:VEVENT
END:VCALENDAR