BEGIN:VCALENDAR
VERSION:2.0
PRODID:www.reiseland-brandenburg.de
BEGIN:VEVENT
UID:69eba57d25060
DTSTART:20260502T100000Z
SEQUENCE:0
TRANSP:OPAQUE
DTEND:20260502T160000Z
URL:http://www.reiseland-brandenburg.de/veranstaltung/havelland/offene-atel
 iers-2026-atelier-martin-pfeiffer
LOCATION:Atelier Martin Pfeiffer\, Thüringer Straße 96\, 14770 Brandenbur
 g an der Havel
X-APPLE-STRUCTURED-LOCATION;VALUE=URI;X-ADDRESS="Atelier Martin Pfeiffer, T
 hüringer Straße 96, 14770 Brandenburg an der Havel";X-APPLE-RADIUS=49;X-
 TITLE=Atelier Martin Pfeiffer:geo:12.506874,52.411152
GEO:12.506874;52.411152
SUMMARY:Offene Ateliers 2026 - Atelier Martin Pfeiffer
CLASS:PUBLIC
DESCRIPTION:Malerei\, Objekte & Holzskulpturen\n\nFührung durch die Ausste
 llung. Wer möchte\, kann sich mit Bildhauern am Sandstein ausprobieren.\n
 \nEin besonderes Highlight in diesem Jahr:\n\nEine kostenlose Mappe steht 
 allen Interessierten zur Verfügung! Diese kann bereits eine Woche vor den
  Offenen Ateliers in der Kunsthalle abgeholt werden.\n\nDie Kunstmappe lä
 dt dazu ein\, individuell befüllt zu werden – mit Skizzen\, Drucken\, k
 leinen Originalen\, Stempeln oder anderen kreativen Beiträgen aus den tei
 lnehmenden Ateliers. So entsteht eine ganz persönliche Sammlung und bleib
 ende Erinnerung an das Kunstwochenende. Ab eine Woche vor dem Veranstaltun
 gswochenende in der Kunsthalle Brennabor\, Geschwister-Scholl-Straße 12 (
 Fr\, Sa und So: 13 – 18 Uhr) oder direkt am Kunstwochenende.\n\nKontakt:
 \n\nKulturbüro der Stadt Brandenburg an der Havel\nJohanneskirchplatz 4\n
 14770 Brandenburg an der Havel\nTelefon: +49 3381 587070\nEmail: kultur@st
 adt-brandenburg.de\nWebseite: https://kulturbuero.stadt-brandenburg.de/\n\
 nWeitere Informationen zur Veranstaltung: http://www.reiseland-brandenburg
 .de/veranstaltung/havelland/offene-ateliers-2026-atelier-martin-pfeiffer
CATEGORIES:Ausstellung
DTSTAMP:20260424T171645Z
END:VEVENT
BEGIN:VEVENT
UID:69eba57d2748b
DTSTART:20260503T080000Z
SEQUENCE:0
TRANSP:OPAQUE
DTEND:20260503T160000Z
URL:http://www.reiseland-brandenburg.de/veranstaltung/havelland/offene-atel
 iers-2026-atelier-martin-pfeiffer
LOCATION:Atelier Martin Pfeiffer\, Thüringer Straße 96\, 14770 Brandenbur
 g an der Havel
X-APPLE-STRUCTURED-LOCATION;VALUE=URI;X-ADDRESS="Atelier Martin Pfeiffer, T
 hüringer Straße 96, 14770 Brandenburg an der Havel";X-APPLE-RADIUS=49;X-
 TITLE=Atelier Martin Pfeiffer:geo:12.506874,52.411152
GEO:12.506874;52.411152
SUMMARY:Offene Ateliers 2026 - Atelier Martin Pfeiffer
CLASS:PUBLIC
DESCRIPTION:Malerei\, Objekte & Holzskulpturen\n\nFührung durch die Ausste
 llung. Wer möchte\, kann sich mit Bildhauern am Sandstein ausprobieren.\n
 \nEin besonderes Highlight in diesem Jahr:\n\nEine kostenlose Mappe steht 
 allen Interessierten zur Verfügung! Diese kann bereits eine Woche vor den
  Offenen Ateliers in der Kunsthalle abgeholt werden.\n\nDie Kunstmappe lä
 dt dazu ein\, individuell befüllt zu werden – mit Skizzen\, Drucken\, k
 leinen Originalen\, Stempeln oder anderen kreativen Beiträgen aus den tei
 lnehmenden Ateliers. So entsteht eine ganz persönliche Sammlung und bleib
 ende Erinnerung an das Kunstwochenende. Ab eine Woche vor dem Veranstaltun
 gswochenende in der Kunsthalle Brennabor\, Geschwister-Scholl-Straße 12 (
 Fr\, Sa und So: 13 – 18 Uhr) oder direkt am Kunstwochenende.\n\nKontakt:
 \n\nKulturbüro der Stadt Brandenburg an der Havel\nJohanneskirchplatz 4\n
 14770 Brandenburg an der Havel\nTelefon: +49 3381 587070\nEmail: kultur@st
 adt-brandenburg.de\nWebseite: https://kulturbuero.stadt-brandenburg.de/\n\
 nWeitere Informationen zur Veranstaltung: http://www.reiseland-brandenburg
 .de/veranstaltung/havelland/offene-ateliers-2026-atelier-martin-pfeiffer
CATEGORIES:Ausstellung
DTSTAMP:20260424T171645Z
END:VEVENT
END:VCALENDAR