BEGIN:VCALENDAR
VERSION:2.0
PRODID:www.reiseland-brandenburg.de
BEGIN:VEVENT
UID:69eb90dbb335c
DTSTART:20260502T120000Z
SEQUENCE:0
TRANSP:OPAQUE
DTEND:20260502T160000Z
URL:http://www.reiseland-brandenburg.de/veranstaltung/havelland/offene-atel
 iers-2026-galerie-durchgang
LOCATION:Galerie Durchgang\, Genthiner Straße 76\, 14774 Brandenburg an de
 r Havel
X-APPLE-STRUCTURED-LOCATION;VALUE=URI;X-ADDRESS="Galerie Durchgang, Genthin
 er Straße 76, 14774 Brandenburg an der Havel";X-APPLE-RADIUS=49;X-TITLE=G
 alerie Durchgang:geo:12.417121,52.407515
GEO:12.417121;52.407515
SUMMARY:Offene Ateliers 2026 - Galerie Durchgang
CLASS:PUBLIC
DESCRIPTION:Fotografie\n\nEin besonderes Highlight in diesem Jahr:\n\nEine 
 kostenlose Mappe steht allen Interessierten zur Verfügung! Diese kann ber
 eits eine Woche vor den Offenen Ateliers in der Kunsthalle abgeholt werden
 .\n\nDie Kunstmappe lädt dazu ein\, individuell befüllt zu werden – mi
 t Skizzen\, Drucken\, kleinen Originalen\, Stempeln oder anderen kreativen
  Beiträgen aus den teilnehmenden Ateliers. So entsteht eine ganz persönl
 iche Sammlung und bleibende Erinnerung an das Kunstwochenende. Ab eine Woc
 he vor dem Veranstaltungswochenende in der Kunsthalle Brennabor\, Geschwis
 ter-Scholl-Straße 12 (Fr\, Sa und So: 13 – 18 Uhr) oder direkt am Kunst
 wochenende.\n\nKontakt:\n\nKulturbüro der Stadt Brandenburg an der Havel\
 nJohanneskirchplatz 4\n14770 Brandenburg an der Havel\nTelefon: +49 3381 5
 87070\nEmail: kultur@stadt-brandenburg.de\nWebseite: https://kulturbuero.s
 tadt-brandenburg.de/\n\nWeitere Informationen zur Veranstaltung: http://ww
 w.reiseland-brandenburg.de/veranstaltung/havelland/offene-ateliers-2026-ga
 lerie-durchgang
CATEGORIES:Ausstellung
DTSTAMP:20260424T154843Z
END:VEVENT
BEGIN:VEVENT
UID:69eb90dbb4f39
DTSTART:20260503T090000Z
SEQUENCE:0
TRANSP:OPAQUE
DTEND:20260503T160000Z
URL:http://www.reiseland-brandenburg.de/veranstaltung/havelland/offene-atel
 iers-2026-galerie-durchgang
LOCATION:Galerie Durchgang\, Genthiner Straße 76\, 14774 Brandenburg an de
 r Havel
X-APPLE-STRUCTURED-LOCATION;VALUE=URI;X-ADDRESS="Galerie Durchgang, Genthin
 er Straße 76, 14774 Brandenburg an der Havel";X-APPLE-RADIUS=49;X-TITLE=G
 alerie Durchgang:geo:12.417121,52.407515
GEO:12.417121;52.407515
SUMMARY:Offene Ateliers 2026 - Galerie Durchgang
CLASS:PUBLIC
DESCRIPTION:Fotografie\n\nEin besonderes Highlight in diesem Jahr:\n\nEine 
 kostenlose Mappe steht allen Interessierten zur Verfügung! Diese kann ber
 eits eine Woche vor den Offenen Ateliers in der Kunsthalle abgeholt werden
 .\n\nDie Kunstmappe lädt dazu ein\, individuell befüllt zu werden – mi
 t Skizzen\, Drucken\, kleinen Originalen\, Stempeln oder anderen kreativen
  Beiträgen aus den teilnehmenden Ateliers. So entsteht eine ganz persönl
 iche Sammlung und bleibende Erinnerung an das Kunstwochenende. Ab eine Woc
 he vor dem Veranstaltungswochenende in der Kunsthalle Brennabor\, Geschwis
 ter-Scholl-Straße 12 (Fr\, Sa und So: 13 – 18 Uhr) oder direkt am Kunst
 wochenende.\n\nKontakt:\n\nKulturbüro der Stadt Brandenburg an der Havel\
 nJohanneskirchplatz 4\n14770 Brandenburg an der Havel\nTelefon: +49 3381 5
 87070\nEmail: kultur@stadt-brandenburg.de\nWebseite: https://kulturbuero.s
 tadt-brandenburg.de/\n\nWeitere Informationen zur Veranstaltung: http://ww
 w.reiseland-brandenburg.de/veranstaltung/havelland/offene-ateliers-2026-ga
 lerie-durchgang
CATEGORIES:Ausstellung
DTSTAMP:20260424T154843Z
END:VEVENT
END:VCALENDAR