BEGIN:VCALENDAR
VERSION:2.0
PRODID:www.reiseland-brandenburg.de
BEGIN:VEVENT
UID:69ebaefa2491e
DTSTART:20260502T120000Z
SEQUENCE:0
TRANSP:OPAQUE
DTEND:20260502T160000Z
URL:http://www.reiseland-brandenburg.de/veranstaltung/havelland/offene-atel
 iers-2026-ateliergalerie-ralf-wilhelm-schmidt
LOCATION:Galerie Ralf Wilhelm Schmidt\, Straße der Einheit 91\, 14548 Schw
 ielowsee
X-APPLE-STRUCTURED-LOCATION;VALUE=URI;X-ADDRESS="Galerie Ralf Wilhelm Schmi
 dt, Straße der Einheit 91, 14548 Schwielowsee";X-APPLE-RADIUS=49;X-TITLE=
 Galerie Ralf Wilhelm Schmidt:geo:12.987505,52.346981
GEO:12.987505;52.346981
SUMMARY:Offene Ateliers 2026 - Ateliergalerie Ralf Wilhelm Schmidt
CLASS:PUBLIC
DESCRIPTION:Bleistiftzeichnungen\n\nKontakt:\n\nLandkreis Potsdam-Mittelmar
 k\nNiemöllerstraße 1\n14806 Bad Belzig\nTelefon: +49 033841  91442\nEmai
 l: Kultur@Potsdam-Mittelmark.de\nWebseite: https://www.potsdam-mittelmark.
 de/de/\n\nWeitere Informationen zur Veranstaltung: http://www.reiseland-br
 andenburg.de/veranstaltung/havelland/offene-ateliers-2026-ateliergalerie-r
 alf-wilhelm-schmidt
CATEGORIES:Ausstellung
DTSTAMP:20260424T175714Z
END:VEVENT
BEGIN:VEVENT
UID:69ebaefa3f75d
DTSTART:20260503T090000Z
SEQUENCE:0
TRANSP:OPAQUE
DTEND:20260503T160000Z
URL:http://www.reiseland-brandenburg.de/veranstaltung/havelland/offene-atel
 iers-2026-ateliergalerie-ralf-wilhelm-schmidt
LOCATION:Galerie Ralf Wilhelm Schmidt\, Straße der Einheit 91\, 14548 Schw
 ielowsee
X-APPLE-STRUCTURED-LOCATION;VALUE=URI;X-ADDRESS="Galerie Ralf Wilhelm Schmi
 dt, Straße der Einheit 91, 14548 Schwielowsee";X-APPLE-RADIUS=49;X-TITLE=
 Galerie Ralf Wilhelm Schmidt:geo:12.987505,52.346981
GEO:12.987505;52.346981
SUMMARY:Offene Ateliers 2026 - Ateliergalerie Ralf Wilhelm Schmidt
CLASS:PUBLIC
DESCRIPTION:Bleistiftzeichnungen\n\nKontakt:\n\nLandkreis Potsdam-Mittelmar
 k\nNiemöllerstraße 1\n14806 Bad Belzig\nTelefon: +49 033841  91442\nEmai
 l: Kultur@Potsdam-Mittelmark.de\nWebseite: https://www.potsdam-mittelmark.
 de/de/\n\nWeitere Informationen zur Veranstaltung: http://www.reiseland-br
 andenburg.de/veranstaltung/havelland/offene-ateliers-2026-ateliergalerie-r
 alf-wilhelm-schmidt
CATEGORIES:Ausstellung
DTSTAMP:20260424T175714Z
END:VEVENT
END:VCALENDAR