BEGIN:VCALENDAR
VERSION:2.0
PRODID:www.reiseland-brandenburg.de
BEGIN:VEVENT
UID:69ebaf80c433d
DTSTART:20260502T120000Z
SEQUENCE:0
TRANSP:OPAQUE
DTEND:20260502T160000Z
URL:http://www.reiseland-brandenburg.de/veranstaltung/havelland/offene-atel
 iers-2026-atelier-christine-lindemann
LOCATION:Atelier Christine Lindemann\, Krughof 18\, 14548 Schwielowsee
X-APPLE-STRUCTURED-LOCATION;VALUE=URI;X-ADDRESS="Atelier Christine Lindeman
 n, Krughof 18, 14548 Schwielowsee";X-APPLE-RADIUS=49;X-TITLE=Atelier Chris
 tine Lindemann:geo:12.996851,52.349236
GEO:12.996851;52.349236
SUMMARY:Offene Ateliers 2026 - Atelier Christine Lindemann
CLASS:PUBLIC
DESCRIPTION:Malerei \,  Encaustic zum Ausprobieren\n\nKontakt:\n\nLandkreis
  Potsdam-Mittelmark\nNiemöllerstraße 1\n14806 Bad Belzig\nTelefon: +49 0
 33841  91442\nEmail: Kultur@Potsdam-Mittelmark.de\nWebseite: https://www.p
 otsdam-mittelmark.de/de/\n\nWeitere Informationen zur Veranstaltung: http:
 //www.reiseland-brandenburg.de/veranstaltung/havelland/offene-ateliers-202
 6-atelier-christine-lindemann
CATEGORIES:Ausstellung
DTSTAMP:20260424T175928Z
END:VEVENT
BEGIN:VEVENT
UID:69ebaf80d7485
DTSTART:20260503T090000Z
SEQUENCE:0
TRANSP:OPAQUE
DTEND:20260503T160000Z
URL:http://www.reiseland-brandenburg.de/veranstaltung/havelland/offene-atel
 iers-2026-atelier-christine-lindemann
LOCATION:Atelier Christine Lindemann\, Krughof 18\, 14548 Schwielowsee
X-APPLE-STRUCTURED-LOCATION;VALUE=URI;X-ADDRESS="Atelier Christine Lindeman
 n, Krughof 18, 14548 Schwielowsee";X-APPLE-RADIUS=49;X-TITLE=Atelier Chris
 tine Lindemann:geo:12.996851,52.349236
GEO:12.996851;52.349236
SUMMARY:Offene Ateliers 2026 - Atelier Christine Lindemann
CLASS:PUBLIC
DESCRIPTION:Malerei \,  Encaustic zum Ausprobieren\n\nKontakt:\n\nLandkreis
  Potsdam-Mittelmark\nNiemöllerstraße 1\n14806 Bad Belzig\nTelefon: +49 0
 33841  91442\nEmail: Kultur@Potsdam-Mittelmark.de\nWebseite: https://www.p
 otsdam-mittelmark.de/de/\n\nWeitere Informationen zur Veranstaltung: http:
 //www.reiseland-brandenburg.de/veranstaltung/havelland/offene-ateliers-202
 6-atelier-christine-lindemann
CATEGORIES:Ausstellung
DTSTAMP:20260424T175928Z
END:VEVENT
END:VCALENDAR