BEGIN:VCALENDAR
VERSION:2.0
PRODID:www.reiseland-brandenburg.de
BEGIN:VEVENT
UID:69ea1ff43ca16
DTSTART:20260830T130000Z
SEQUENCE:0
TRANSP:OPAQUE
DTEND:20260830T160000Z
URL:http://www.reiseland-brandenburg.de/veranstaltung/uckermark/vibraphon-u
 nd-marimbaphon-tom-van-der-geld-und-franz-bauer
LOCATION:Atelier-Galerie in Beenz\, Chaussee 10 a\, 17279 Lychen
X-APPLE-STRUCTURED-LOCATION;VALUE=URI;X-ADDRESS="Atelier-Galerie in Beenz, 
 Chaussee 10 a, 17279 Lychen";X-APPLE-RADIUS=49;X-TITLE=Atelier-Galerie in 
 Beenz:geo:13.352231,53.262978
GEO:13.352231;53.262978
SUMMARY:Vibraphon & Marimbaphon - Tom van der Geld & Franz Bauer
CLASS:PUBLIC
DESCRIPTION:Der amerikanische Vibraphonist Tom van der Geld wurde in Boston
  geboren und lebt seit 1974 in Europa. Er ist bei allen bedeutenden Jazzfe
 stivals aufgetreten\, wie Montreux\, Weltmusiktage Donaueschingen\, Baden-
 Baden New Jazz Meeting\, Willisau Festival\, Jazz Festival Berlin\, Leverk
 usener Jazz Festival und vielen anderen.\n\nFranz Bauer ist ein Musiker\, 
 der ausgedehnte Reisen in sehr unterschiedlichen musikalischen Gefilden un
 ternimmt. Vom Drummer zum klassischen Orchestermusiker und Solisten hat er
  in und neben seiner klassischen Ausbildung immer mehr zur Improvisation\,
  vor allem auf seinen Hauptinstrumenten Vibraphon und Marimbaphon gefunden
 \, die seine stärksten Ausdrucksmittel geworden sind.\n\nAm Sonntag\, den
  30. August ist er zu Gast im Atelier des Künstlers Wolfgang Bärmich in 
 Lychen.\n\nKontakt:\n\nAtelier-Galerie Bärmich\nChaussee 10 A\n17279 Lych
 en\nTelefon: \nEmail: wolfgang-baermich@posteo.de\nWebseite: https://wolfg
 ang-baermich.de\n\nWeitere Informationen zur Veranstaltung: http://www.rei
 seland-brandenburg.de/veranstaltung/uckermark/vibraphon-und-marimbaphon-to
 m-van-der-geld-und-franz-bauer
CATEGORIES:Rock / Pop / Jazz
DTSTAMP:20260423T133444Z
END:VEVENT
END:VCALENDAR