BEGIN:VCALENDAR
VERSION:2.0
PRODID:www.reiseland-brandenburg.de
BEGIN:VEVENT
UID:69ea1ff4aa2f7
DTSTART:20260721T160000Z
SEQUENCE:0
TRANSP:OPAQUE
DTEND:20260721T190000Z
URL:http://www.reiseland-brandenburg.de/veranstaltung/uckermark/folkrock-an
 dreas-schirneck
LOCATION:Atelier-Galerie in Beenz\, Chaussee 10 a\, 17279 Lychen
X-APPLE-STRUCTURED-LOCATION;VALUE=URI;X-ADDRESS="Atelier-Galerie in Beenz, 
 Chaussee 10 a, 17279 Lychen";X-APPLE-RADIUS=49;X-TITLE=Atelier-Galerie in 
 Beenz:geo:13.352231,53.262978
GEO:13.352231;53.262978
SUMMARY:Folkrock - Andreas Schirneck
CLASS:PUBLIC
DESCRIPTION:Ein Querschnitt durch die Flower Power Szene und die Woodstock-
 Ära (Tom Petty\, Rio Reiser\, CSN&Y\, Bob Dylan\, Cat Stevens\, Renft\, E
 igenes…)\n\nAm Dienstag\, 21. Juli ist er zu Gast im Atelier des Künstl
 ers Wolfgang Bärmich in Lychen.\n\nKontakt:\n\nAtelier-Galerie Bärmich\n
 Chaussee 10 A\n17279 Lychen\nTelefon: \nEmail: wolfgang-baermich@posteo.de
 \nWebseite: https://wolfgang-baermich.de\n\nWeitere Informationen zur Vera
 nstaltung: http://www.reiseland-brandenburg.de/veranstaltung/uckermark/fol
 krock-andreas-schirneck
CATEGORIES:Rock / Pop / Jazz,Chor / Folklore / Volksmusik
DTSTAMP:20260423T133444Z
END:VEVENT
END:VCALENDAR