BEGIN:VCALENDAR
VERSION:2.0
PRODID:www.reiseland-brandenburg.de
BEGIN:VEVENT
UID:69ea1e21de4aa
DTSTART:20260705T130000Z
SEQUENCE:0
TRANSP:OPAQUE
DTEND:20260705T160000Z
URL:http://www.reiseland-brandenburg.de/veranstaltung/uckermark/jazz-am-pia
 no-annette-wizisla
LOCATION:Atelier-Galerie in Beenz\, Chaussee 10 a\, 17279 Lychen
X-APPLE-STRUCTURED-LOCATION;VALUE=URI;X-ADDRESS="Atelier-Galerie in Beenz, 
 Chaussee 10 a, 17279 Lychen";X-APPLE-RADIUS=49;X-TITLE=Atelier-Galerie in 
 Beenz:geo:13.352231,53.262978
GEO:13.352231;53.262978
SUMMARY:Jazz am Piano: Annette Wizisla
CLASS:PUBLIC
DESCRIPTION:Annette Wizisla vereint musikalische Vielfalt und künstlerisch
 e Tiefe: Pianistin\, Sängerin in mehreren Sprachen\, Komponistin und Leit
 erin von Chören und Bands. Ergänzt durch Unterricht\, Schauspiel sowie i
 hre Arbeit mit Klangheilung entsteht ein facettenreiches künstlerisches P
 rofil.\n\nAm 05. Juli ist sie zu Gast im Atelier des Künstlers Wolfgang B
 ärmich in Lychen.\n\nKontakt:\n\nAtelier-Galerie Bärmich\nChaussee 10 A\
 n17279 Lychen\nTelefon: \nEmail: wolfgang-baermich@posteo.de\nWebseite: ht
 tps://wolfgang-baermich.de\n\nWeitere Informationen zur Veranstaltung: htt
 p://www.reiseland-brandenburg.de/veranstaltung/uckermark/jazz-am-piano-ann
 ette-wizisla
CATEGORIES:Rock / Pop / Jazz
DTSTAMP:20260423T132658Z
END:VEVENT
END:VCALENDAR