BEGIN:VCALENDAR
VERSION:2.0
PRODID:www.reiseland-brandenburg.de
BEGIN:VEVENT
UID:69ea2f62628c6
DTSTART:20260503T090000Z
SEQUENCE:0
TRANSP:OPAQUE
DTEND:20260503T160000Z
URL:http://www.reiseland-brandenburg.de/veranstaltung/flaeming/offene-ateli
 ers-2026-atelier-lona-vogl-lemnitzer
LOCATION:Atelier Lona Vogl Lemnitzer\, Hauptstraße 17\, 14797 Kloster Lehn
 in
X-APPLE-STRUCTURED-LOCATION;VALUE=URI;X-ADDRESS="Atelier Lona Vogl Lemnitze
 r, Hauptstraße 17, 14797 Kloster Lehnin";X-APPLE-RADIUS=49;X-TITLE=Atelie
 r Lona Vogl Lemnitzer:geo:12.751816,52.291101
GEO:12.751816;52.291101
SUMMARY:Offene Ateliers 2026 - Atelier Lona Vogl Lemnitzer
CLASS:PUBLIC
DESCRIPTION:Malerei\, Skulptur \n\nArbeiten mit verschiedenen Materialien z
 um mitmachen  \nGäste: Kunstgruppe „Kunst machen am Vormittag“\n\nKon
 takt:\n\nLandkreis Potsdam-Mittelmark\nNiemöllerstraße 1\n14806 Bad Belz
 ig\nTelefon: +49 033841  91442\nEmail: Kultur@Potsdam-Mittelmark.de\nWebse
 ite: https://www.potsdam-mittelmark.de/de/\n\nWeitere Informationen zur Ve
 ranstaltung: http://www.reiseland-brandenburg.de/veranstaltung/flaeming/of
 fene-ateliers-2026-atelier-lona-vogl-lemnitzer
CATEGORIES:Ausstellung
DTSTAMP:20260423T144034Z
END:VEVENT
END:VCALENDAR