BEGIN:VCALENDAR
VERSION:2.0
PRODID:www.reiseland-brandenburg.de
BEGIN:VEVENT
UID:69ed5dfb14956
DTSTART:20260502T160000Z
SEQUENCE:0
TRANSP:OPAQUE
DTEND:20260502T173000Z
URL:http://www.reiseland-brandenburg.de/veranstaltung/seenland-oder-spree/k
 ultursaison-steinhoefel-2
LOCATION:Thierbachshof\, Strasse der Freundschaft 2\, 15518 Steinhöfel
X-APPLE-STRUCTURED-LOCATION;VALUE=URI;X-ADDRESS="Thierbachshof, Strasse der
  Freundschaft 2, 15518 Steinhöfel";X-APPLE-RADIUS=49;X-TITLE=Thierbachsho
 f:geo:14.164560,52.400140
GEO:14.164560;52.400140
SUMMARY:Kultursaison Steinhöfel
CLASS:PUBLIC
DESCRIPTION:Marion fing mit der Malerei an\, um zu entspannen und wurde Mit
 glied des Malzirkels in der Kulturfabrik Fürstenwalde.  \nSie experimenti
 ert gerne mit neuen Techniken\, liebt Farben und Landschaften.\n\nWir lade
 n zur Vernissage\, um bei Getränken und Snacks mit der Künstlerin ins Ge
 spräch zu kommen und ihre Bildwelten kennen zu lernen. Die Werke bleiben 
 den ganzen Monat über hängen und können auf Wunsch gerne erworben werde
 n.\n\nKontakt:\n\nKultursaison Steinhöfel\nStrasse der Freundschaft 2\n15
 518 Steinhöfel\nTelefon: +49 (0)33636  259974\nEmail: \nWebseite: https:/
 /kultursaison-steinhoefel.de/\n\nWeitere Informationen zur Veranstaltung: 
 http://www.reiseland-brandenburg.de/veranstaltung/seenland-oder-spree/kult
 ursaison-steinhoefel-2
CATEGORIES:Ausstellung
DTSTAMP:20260426T003611Z
END:VEVENT
END:VCALENDAR