BEGIN:VCALENDAR
VERSION:2.0
PRODID:www.reiseland-brandenburg.de
BEGIN:VEVENT
UID:69ea07c1ac03c
DTSTART:20260430T170000Z
SEQUENCE:0
TRANSP:OPAQUE
DTEND:20260430T183000Z
URL:http://www.reiseland-brandenburg.de/veranstaltung/potsdam/selbstverteid
 igung-literarisch-vor-dem-sturm
LOCATION:Theodor-Fontane-Archiv\, Große Weinmeisterstraße 46/47\, 14469 P
 otsdam
X-APPLE-STRUCTURED-LOCATION;VALUE=URI;X-ADDRESS="Theodor-Fontane-Archiv, Gr
 oße Weinmeisterstraße 46/47, 14469 Potsdam";X-APPLE-RADIUS=49;X-TITLE=Th
 eodor-Fontane-Archiv:geo:13.063590,52.417810
GEO:13.063590;52.417810
SUMMARY:Selbstverteidigung\, literarisch: \"Vor dem Sturm\"
CLASS:PUBLIC
DESCRIPTION:Das Theodor-Fontane-Archiv widmet einen Abend dem wenig bekannt
 en Romandebüt Fontanes\, \"Vor dem Sturm\"\, und geht dabei der Frage nac
 h\, wie Literatur gesellschaftliche Bedrohungsszenarien darstellt und refl
 ektiert. Eine Lesung von ausgewählten Passagen durch die Schauspielerin K
 atharina Thalbach wird in die Romanhandlung einführen. Davon ausgehend di
 skutieren die Demokratieforscherin Hedwig Richter und der Fontane-Biograf 
 Iwan-Michelangelo D’Aprile den Ort des Romans in der Literatur und Kultu
 r des 19. Jahrhunderts und fragen nach den Krisengeschichten\, die sich in
  den Text eingeschrieben haben. Der Abend findet im Rahmen einer bundeswei
 ten Veranstaltungsreihe in Zusammenarbeit mit dem Deutschen Literaturarchi
 v Marbach statt. Die Teilnahme ist 'in Präsenz' in der Potsdamer Villa Qu
 andt oder über die Videokonferenz-Software Zoom möglich.\n\nTheodor Font
 anes Romanerstling \"Vor dem Sturm\" erschien 1878 ‒ zunächst als 36-te
 iliger Vorabdruck in der Leipziger Wochenzeitschrift \"Daheim\"\, dann als
  vierbändige Buchausgabe. Der \"Roman aus dem Winter 1812 auf 13\"\, so d
 er Untertitel\, führt in die Zeit der preußischen Befreiungskriege gegen
  die napoleonische Besatzung. Doch seine Figuren tragen bereits die Spuren
  früherer Konflikte und für die Leserinnen und Leser des 19. Jahrhundert
 s klangen in ihm auch die Erfahrungen der damals erst wenige Jahre zurück
 liegenden 'Einigungskriege' nach. \"Vor dem Sturm\" ist damit nicht nur ei
 n historischer Roman\, sondern ein vielschichtiges ästhetisches Nachdenke
 n über Europa im Krieg\, über Gesellschaften im Widerstand und über die
  Spielräume des Einzelnen in unsicheren Zeiten.\n\nDie vom Deutschen Lite
 raturarchiv Marbach getragene deutschlandweite Reihe \"Selbstverteidigung\
 , literarisch\"\, die mit Partnern u.a. in Frankfurt a.M.\, Weimar und Mü
 nchen durchgeführt wird\, nimmt unsere gegenwärtige Situation der Multik
 risen zum Ausgangspunkt\, um auszuloten\, wie Bedrohungssituationen und Kr
 iegserfahrungen wahrgenommen und in der Literatur ästhetisch verarbeitet 
 wurden. In diesem Sinne fragt die Reihe: Was tun\, wenn das eigene Land\, 
 die eigene Kultur bedroht wird? Welcher geistigen Voraussetzungen bedarf e
 s\, um die Lage zu verstehen und entsprechend zu handeln\, um ‒ wie es h
 eute heißt ‒ resilient zu werden?\n\nKontakt:\n\nVilla Quandt\nGroße W
 einmeisterstraße 46/47\n14469 Potsdam\nTelefon: +49 0331 201396\nEmail: f
 ontanearchiv@uni-potsdam.de\nWebseite: https://www.fontanearchiv.de/servic
 e/kontakt\n\nWeitere Informationen zur Veranstaltung: http://www.reiseland
 -brandenburg.de/veranstaltung/potsdam/selbstverteidigung-literarisch-vor-d
 em-sturm
CATEGORIES:Lesung / Vortrag
DTSTAMP:20260423T115130Z
END:VEVENT
END:VCALENDAR