BEGIN:VCALENDAR
VERSION:2.0
PRODID:www.reiseland-brandenburg.de
BEGIN:VEVENT
UID:69ed9028ac406
DTSTART:20260501T090000Z
SEQUENCE:0
TRANSP:OPAQUE
DTEND:20260501T150000Z
URL:http://www.reiseland-brandenburg.de/veranstaltung/potsdam/rockfruehscho
 ppen-zum-1-mai-in-der-braumanufaktur-potsdam
LOCATION:Braumanufaktur Potsdam\, Templiner Str. 102\, 14473 Potsdam
X-APPLE-STRUCTURED-LOCATION;VALUE=URI;X-ADDRESS="Braumanufaktur Potsdam, Te
 mpliner Str. 102, 14473 Potsdam";X-APPLE-RADIUS=49;X-TITLE=Braumanufaktur 
 Potsdam:geo:13.023593,52.359345
GEO:13.023593;52.359345
SUMMARY:Rockfrühschoppen zum 1. Mai in der Braumanufaktur Potsdam
CLASS:PUBLIC
DESCRIPTION:Beim Rockfrühschoppen\, dem Biergartenfest an der Braumanufakt
 ur Forsthaus Templin\, gibt es Gegrilltes und Livemusik von GehROCK:\n\n  
 * handgemachte Rockmusik von AC/DC bis ZZ Top\n  * das Beste von der Koffe
 rradio-Zeit bis heute\n  * ‚saitenweise‘ kräftig-melodiöser Sound\n 
  * drei Gitarren\, Bass und Schlagzeug\n  * ein garantiert Playback-freies
  Programm\n\n\n\nMehr Informationen und Termine  \n[ _www.gehrock-band.de_
 ](http://www.gehrock-band.de/)\n\nKontakt:\n\nGehROCK GbR\n\n \nTelefon: +
 49\nEmail: kontakt@gehrock-band.de\nWebseite: https://www.gehrock-band.de/
 \n\nWeitere Informationen zur Veranstaltung: http://www.reiseland-brandenb
 urg.de/veranstaltung/potsdam/rockfruehschoppen-zum-1-mai-in-der-braumanufa
 ktur-potsdam
CATEGORIES:Rock / Pop / Jazz,Fest / Brauchtum
DTSTAMP:20260426T041016Z
END:VEVENT
END:VCALENDAR