BEGIN:VCALENDAR
VERSION:2.0
PRODID:www.reiseland-brandenburg.de
BEGIN:VEVENT
UID:69ea03ef6384d
DTSTART:20260502T120000Z
SEQUENCE:0
TRANSP:OPAQUE
DTEND:20260502T160000Z
URL:http://www.reiseland-brandenburg.de/veranstaltung/havelland/offene-atel
 iers-2026-atelier-meersinn
LOCATION:Atelier Meersinn\, Brandenburger Str.  31\, 14641 Wustermark
X-APPLE-STRUCTURED-LOCATION;VALUE=URI;X-ADDRESS="Atelier Meersinn, Brandenb
 urger Str.  31, 14641 Wustermark";X-APPLE-RADIUS=49;X-TITLE=Atelier Meersi
 nn:geo:12.932002,52.546827
GEO:12.932002;52.546827
SUMMARY:Offene Ateliers 2026 - Atelier Meersinn
CLASS:PUBLIC
DESCRIPTION:Upcycling\, Kunsthandwerk\, Bildhauerei \n\nAn beiden Tagen Kaf
 fee und hausgebackenen Kuchen im Garten\n\nGastkünstler*innen:\n\nAnke V
 ölker: Gewolltes\, Eingemachtes & Fermente  \nKathrin Neef: Glasunikate  
 \nGrit Otto: Piniennadel-Körbe  \nAnnette Gandyra: Malerei und Upcycling 
  \nUli Liese: Holz- u. Objektkunst  \nHeike Rensch: Keramik u. Gartendeko 
 sowie andere Überraschungskünstler*innen\n\nKontakt:\n\nLandkreis Havell
 and\nPlatz der Freiheit 1\n14712 Rathenow\nTelefon: \nEmail: \n\nWeitere I
 nformationen zur Veranstaltung: http://www.reiseland-brandenburg.de/verans
 taltung/havelland/offene-ateliers-2026-atelier-meersinn
CATEGORIES:Ausstellung
DTSTAMP:20260423T113511Z
END:VEVENT
BEGIN:VEVENT
UID:69ea03ef6bc28
DTSTART:20260503T090000Z
SEQUENCE:0
TRANSP:OPAQUE
DTEND:20260503T160000Z
URL:http://www.reiseland-brandenburg.de/veranstaltung/havelland/offene-atel
 iers-2026-atelier-meersinn
LOCATION:Atelier Meersinn\, Brandenburger Str.  31\, 14641 Wustermark
X-APPLE-STRUCTURED-LOCATION;VALUE=URI;X-ADDRESS="Atelier Meersinn, Brandenb
 urger Str.  31, 14641 Wustermark";X-APPLE-RADIUS=49;X-TITLE=Atelier Meersi
 nn:geo:12.932002,52.546827
GEO:12.932002;52.546827
SUMMARY:Offene Ateliers 2026 - Atelier Meersinn
CLASS:PUBLIC
DESCRIPTION:Upcycling\, Kunsthandwerk\, Bildhauerei \n\nAn beiden Tagen Kaf
 fee und hausgebackenen Kuchen im Garten\n\nGastkünstler*innen:\n\nAnke V
 ölker: Gewolltes\, Eingemachtes & Fermente  \nKathrin Neef: Glasunikate  
 \nGrit Otto: Piniennadel-Körbe  \nAnnette Gandyra: Malerei und Upcycling 
  \nUli Liese: Holz- u. Objektkunst  \nHeike Rensch: Keramik u. Gartendeko 
 sowie andere Überraschungskünstler*innen\n\nKontakt:\n\nLandkreis Havell
 and\nPlatz der Freiheit 1\n14712 Rathenow\nTelefon: \nEmail: \n\nWeitere I
 nformationen zur Veranstaltung: http://www.reiseland-brandenburg.de/verans
 taltung/havelland/offene-ateliers-2026-atelier-meersinn
CATEGORIES:Ausstellung
DTSTAMP:20260423T113511Z
END:VEVENT
END:VCALENDAR