BEGIN:VCALENDAR
VERSION:2.0
PRODID:www.reiseland-brandenburg.de
BEGIN:VEVENT
UID:69ea1d8dd7393
DTSTART:20260502T100000Z
SEQUENCE:0
TRANSP:OPAQUE
DTEND:20260502T150000Z
URL:http://www.reiseland-brandenburg.de/veranstaltung/havelland/offene-atel
 iers-2026-kulturtreff-hauslachmund
LOCATION:Kulturtreff Hauslachmund\, Am Obstgarten  7\, 14641 Wustermark
X-APPLE-STRUCTURED-LOCATION;VALUE=URI;X-ADDRESS="Kulturtreff Hauslachmund, 
 Am Obstgarten  7, 14641 Wustermark";X-APPLE-RADIUS=49;X-TITLE=Kulturtreff 
 Hauslachmund:geo:12.981587,52.518873
GEO:12.981587;52.518873
SUMMARY:Offene Ateliers 2026 - Kulturtreff Hauslachmund
CLASS:PUBLIC
DESCRIPTION:Keramik\, Malerei \n\nAm Samstag gibt es ein musikalisches Begl
 eitprogramm.\n\nKontakt:\n\nLandkreis Havelland\nPlatz der Freiheit 1\n147
 12 Rathenow\nTelefon: \nEmail: \n\nWeitere Informationen zur Veranstaltung
 : http://www.reiseland-brandenburg.de/veranstaltung/havelland/offene-ateli
 ers-2026-kulturtreff-hauslachmund
CATEGORIES:Ausstellung
DTSTAMP:20260423T132429Z
END:VEVENT
BEGIN:VEVENT
UID:69ea1d8ddf0ac
DTSTART:20260503T100000Z
SEQUENCE:0
TRANSP:OPAQUE
DTEND:20260503T140000Z
URL:http://www.reiseland-brandenburg.de/veranstaltung/havelland/offene-atel
 iers-2026-kulturtreff-hauslachmund
LOCATION:Kulturtreff Hauslachmund\, Am Obstgarten  7\, 14641 Wustermark
X-APPLE-STRUCTURED-LOCATION;VALUE=URI;X-ADDRESS="Kulturtreff Hauslachmund, 
 Am Obstgarten  7, 14641 Wustermark";X-APPLE-RADIUS=49;X-TITLE=Kulturtreff 
 Hauslachmund:geo:12.981587,52.518873
GEO:12.981587;52.518873
SUMMARY:Offene Ateliers 2026 - Kulturtreff Hauslachmund
CLASS:PUBLIC
DESCRIPTION:Keramik\, Malerei \n\nAm Samstag gibt es ein musikalisches Begl
 eitprogramm.\n\nKontakt:\n\nLandkreis Havelland\nPlatz der Freiheit 1\n147
 12 Rathenow\nTelefon: \nEmail: \n\nWeitere Informationen zur Veranstaltung
 : http://www.reiseland-brandenburg.de/veranstaltung/havelland/offene-ateli
 ers-2026-kulturtreff-hauslachmund
CATEGORIES:Ausstellung
DTSTAMP:20260423T132429Z
END:VEVENT
END:VCALENDAR