BEGIN:VCALENDAR
VERSION:2.0
PRODID:www.reiseland-brandenburg.de
BEGIN:VEVENT
UID:69ea1c6a8ebff
DTSTART:20260502T120000Z
SEQUENCE:0
TRANSP:OPAQUE
DTEND:20260502T170000Z
URL:http://www.reiseland-brandenburg.de/veranstaltung/havelland/offene-atel
 iers-2026-einzigartig-keramik
LOCATION:Einzigartig-Keramik\, Neubauernweg  1\, 14641 Wustermark
X-APPLE-STRUCTURED-LOCATION;VALUE=URI;X-ADDRESS="Einzigartig-Keramik, Neuba
 uernweg  1, 14641 Wustermark";X-APPLE-RADIUS=49;X-TITLE=Einzigartig-Kerami
 k:geo:12.980639,52.516491
GEO:12.980639;52.516491
SUMMARY:Offene Ateliers 2026 - Einzigartig-Keramik
CLASS:PUBLIC
DESCRIPTION:Keramik\, Holzkunst\n\nKontakt:\n\nLandkreis Havelland\nPlatz d
 er Freiheit 1\n14712 Rathenow\nTelefon: \nEmail: \n\nWeitere Informationen
  zur Veranstaltung: http://www.reiseland-brandenburg.de/veranstaltung/have
 lland/offene-ateliers-2026-einzigartig-keramik
CATEGORIES:Ausstellung
DTSTAMP:20260423T131938Z
END:VEVENT
BEGIN:VEVENT
UID:69ea1c6adbe2f
DTSTART:20260503T090000Z
SEQUENCE:0
TRANSP:OPAQUE
DTEND:20260503T161500Z
URL:http://www.reiseland-brandenburg.de/veranstaltung/havelland/offene-atel
 iers-2026-einzigartig-keramik
LOCATION:Einzigartig-Keramik\, Neubauernweg  1\, 14641 Wustermark
X-APPLE-STRUCTURED-LOCATION;VALUE=URI;X-ADDRESS="Einzigartig-Keramik, Neuba
 uernweg  1, 14641 Wustermark";X-APPLE-RADIUS=49;X-TITLE=Einzigartig-Kerami
 k:geo:12.980639,52.516491
GEO:12.980639;52.516491
SUMMARY:Offene Ateliers 2026 - Einzigartig-Keramik
CLASS:PUBLIC
DESCRIPTION:Keramik\, Holzkunst\n\nKontakt:\n\nLandkreis Havelland\nPlatz d
 er Freiheit 1\n14712 Rathenow\nTelefon: \nEmail: \n\nWeitere Informationen
  zur Veranstaltung: http://www.reiseland-brandenburg.de/veranstaltung/have
 lland/offene-ateliers-2026-einzigartig-keramik
CATEGORIES:Ausstellung
DTSTAMP:20260423T131938Z
END:VEVENT
END:VCALENDAR