BEGIN:VCALENDAR
VERSION:2.0
PRODID:www.reiseland-brandenburg.de
BEGIN:VEVENT
UID:69ea050cc4131
DTSTART:20260502T120000Z
SEQUENCE:0
TRANSP:OPAQUE
DTEND:20260502T160000Z
URL:http://www.reiseland-brandenburg.de/veranstaltung/havelland/offene-atel
 iers-2026-atelier-matthias-kupfernagel
LOCATION:Atelier Matthias Kupfernagel\, Düttchens Höh' 6\, 14621 Schönwa
 lde-Glien
X-APPLE-STRUCTURED-LOCATION;VALUE=URI;X-ADDRESS="Atelier Matthias Kupfernag
 el, Düttchens Höh' 6, 14621 Schönwalde-Glien";X-APPLE-RADIUS=49;X-TITLE
 =Atelier Matthias Kupfernagel:geo:13.013494,52.660775
GEO:13.013494;52.660775
SUMMARY:Offene Ateliers 2026 - Atelier Matthias Kupfernagel
CLASS:PUBLIC
DESCRIPTION:Fotografie\n\nKontakt:\n\nLandkreis Havelland\nPlatz der Freihe
 it 1\n14712 Rathenow\nTelefon: \nEmail: \n\nWeitere Informationen zur Vera
 nstaltung: http://www.reiseland-brandenburg.de/veranstaltung/havelland/off
 ene-ateliers-2026-atelier-matthias-kupfernagel
CATEGORIES:Ausstellung
DTSTAMP:20260423T113956Z
END:VEVENT
BEGIN:VEVENT
UID:69ea050cc5e8b
DTSTART:20260503T120000Z
SEQUENCE:0
TRANSP:OPAQUE
DTEND:20260503T160000Z
URL:http://www.reiseland-brandenburg.de/veranstaltung/havelland/offene-atel
 iers-2026-atelier-matthias-kupfernagel
LOCATION:Atelier Matthias Kupfernagel\, Düttchens Höh' 6\, 14621 Schönwa
 lde-Glien
X-APPLE-STRUCTURED-LOCATION;VALUE=URI;X-ADDRESS="Atelier Matthias Kupfernag
 el, Düttchens Höh' 6, 14621 Schönwalde-Glien";X-APPLE-RADIUS=49;X-TITLE
 =Atelier Matthias Kupfernagel:geo:13.013494,52.660775
GEO:13.013494;52.660775
SUMMARY:Offene Ateliers 2026 - Atelier Matthias Kupfernagel
CLASS:PUBLIC
DESCRIPTION:Fotografie\n\nKontakt:\n\nLandkreis Havelland\nPlatz der Freihe
 it 1\n14712 Rathenow\nTelefon: \nEmail: \n\nWeitere Informationen zur Vera
 nstaltung: http://www.reiseland-brandenburg.de/veranstaltung/havelland/off
 ene-ateliers-2026-atelier-matthias-kupfernagel
CATEGORIES:Ausstellung
DTSTAMP:20260423T113956Z
END:VEVENT
END:VCALENDAR