BEGIN:VCALENDAR
VERSION:2.0
PRODID:www.reiseland-brandenburg.de
BEGIN:VEVENT
UID:69ea04b42c259
DTSTART:20260502T120000Z
SEQUENCE:0
TRANSP:OPAQUE
DTEND:20260502T160000Z
URL:http://www.reiseland-brandenburg.de/veranstaltung/havelland/offene-atel
 iers-2026-kulturmuehle-perwenitz-ev
LOCATION:Kulturmühle Perwenitz e.V.\, Perwenitzer Dorfstr. 1\, 14621 Schö
 nwalde-Glien
X-APPLE-STRUCTURED-LOCATION;VALUE=URI;X-ADDRESS="Kulturmühle Perwenitz e.V
 ., Perwenitzer Dorfstr. 1, 14621 Schönwalde-Glien";X-APPLE-RADIUS=49;X-TI
 TLE=Kulturmühle Perwenitz e.V.:geo:13.012713,52.661579
GEO:13.012713;52.661579
SUMMARY:Offene Ateliers 2026 - Kulturmühle Perwenitz e.V.
CLASS:PUBLIC
DESCRIPTION:Fotografie\, Malerei\, Zeichnung\n\nGastkünstler: Heinz B. Dre
 ckmann\, Manfred Gruber\, Markus Kohn\, Katharina Kulpok\, Eva Paul\, Susa
 nne Pomerance\, Klaus Schweier\, Gudrun Venter\n\nParallelausstellung: Klo
 lektion - Sammelwerke rund um das Stille Örtchen\n\nKontakt:\n\nLandkreis
  Havelland\nPlatz der Freiheit 1\n14712 Rathenow\nTelefon: \nEmail: \n\nWe
 itere Informationen zur Veranstaltung: http://www.reiseland-brandenburg.de
 /veranstaltung/havelland/offene-ateliers-2026-kulturmuehle-perwenitz-ev
CATEGORIES:Ausstellung
DTSTAMP:20260423T113828Z
END:VEVENT
BEGIN:VEVENT
UID:69ea04b43334b
DTSTART:20260503T090000Z
SEQUENCE:0
TRANSP:OPAQUE
DTEND:20260503T160000Z
URL:http://www.reiseland-brandenburg.de/veranstaltung/havelland/offene-atel
 iers-2026-kulturmuehle-perwenitz-ev
LOCATION:Kulturmühle Perwenitz e.V.\, Perwenitzer Dorfstr. 1\, 14621 Schö
 nwalde-Glien
X-APPLE-STRUCTURED-LOCATION;VALUE=URI;X-ADDRESS="Kulturmühle Perwenitz e.V
 ., Perwenitzer Dorfstr. 1, 14621 Schönwalde-Glien";X-APPLE-RADIUS=49;X-TI
 TLE=Kulturmühle Perwenitz e.V.:geo:13.012713,52.661579
GEO:13.012713;52.661579
SUMMARY:Offene Ateliers 2026 - Kulturmühle Perwenitz e.V.
CLASS:PUBLIC
DESCRIPTION:Fotografie\, Malerei\, Zeichnung\n\nGastkünstler: Heinz B. Dre
 ckmann\, Manfred Gruber\, Markus Kohn\, Katharina Kulpok\, Eva Paul\, Susa
 nne Pomerance\, Klaus Schweier\, Gudrun Venter\n\nParallelausstellung: Klo
 lektion - Sammelwerke rund um das Stille Örtchen\n\nKontakt:\n\nLandkreis
  Havelland\nPlatz der Freiheit 1\n14712 Rathenow\nTelefon: \nEmail: \n\nWe
 itere Informationen zur Veranstaltung: http://www.reiseland-brandenburg.de
 /veranstaltung/havelland/offene-ateliers-2026-kulturmuehle-perwenitz-ev
CATEGORIES:Ausstellung
DTSTAMP:20260423T113828Z
END:VEVENT
END:VCALENDAR