BEGIN:VCALENDAR
VERSION:2.0
PRODID:www.reiseland-brandenburg.de
BEGIN:VEVENT
UID:69eb499bd26fe
DTSTART:20260502T110000Z
SEQUENCE:0
TRANSP:OPAQUE
DTEND:20260502T140000Z
URL:http://www.reiseland-brandenburg.de/veranstaltung/havelland/offene-atel
 iers-2026-offenes-atelier-im-kulturzentrum
LOCATION:Kulturzentrum Rathenow\, Märkischer Platz 3\, 14712 Rathenow
X-APPLE-STRUCTURED-LOCATION;VALUE=URI;X-ADDRESS="Kulturzentrum Rathenow, M
 ärkischer Platz 3, 14712 Rathenow";X-APPLE-RADIUS=49;X-TITLE=Kulturzentru
 m Rathenow:geo:12.342377,52.606363
GEO:12.342377;52.606363
SUMMARY:Offene Ateliers 2026 - Offenes Atelier im Kulturzentrum
CLASS:PUBLIC
DESCRIPTION:Malerei\, Grafik\, Mixed Media\n\nUte Arndt\, Jordis Hammer\, I
 na Höffler\n\nSonntag: Tiefdruck – Jordis Hammer und Ute Arndt geben Ei
 nblick in die Tiefdrucktechnik. Die Besucherinnen und Besucher können von
  der Radierung bis zum Druck das Entstehen einer Grafik miterleben. Wer Lu
 st hat\, kann gern selbst einen Tiefdruck anfertigen.\n\nKontakt:\n\nLandk
 reis Havelland\nPlatz der Freiheit 1\n14712 Rathenow\nTelefon: \nEmail: \n
 \nWeitere Informationen zur Veranstaltung: http://www.reiseland-brandenbur
 g.de/veranstaltung/havelland/offene-ateliers-2026-offenes-atelier-im-kultu
 rzentrum
CATEGORIES:Ausstellung
DTSTAMP:20260424T104444Z
END:VEVENT
BEGIN:VEVENT
UID:69eb499be8619
DTSTART:20260503T090000Z
SEQUENCE:0
TRANSP:OPAQUE
DTEND:20260503T140000Z
URL:http://www.reiseland-brandenburg.de/veranstaltung/havelland/offene-atel
 iers-2026-offenes-atelier-im-kulturzentrum
LOCATION:Kulturzentrum Rathenow\, Märkischer Platz 3\, 14712 Rathenow
X-APPLE-STRUCTURED-LOCATION;VALUE=URI;X-ADDRESS="Kulturzentrum Rathenow, M
 ärkischer Platz 3, 14712 Rathenow";X-APPLE-RADIUS=49;X-TITLE=Kulturzentru
 m Rathenow:geo:12.342377,52.606363
GEO:12.342377;52.606363
SUMMARY:Offene Ateliers 2026 - Offenes Atelier im Kulturzentrum
CLASS:PUBLIC
DESCRIPTION:Malerei\, Grafik\, Mixed Media\n\nUte Arndt\, Jordis Hammer\, I
 na Höffler\n\nSonntag: Tiefdruck – Jordis Hammer und Ute Arndt geben Ei
 nblick in die Tiefdrucktechnik. Die Besucherinnen und Besucher können von
  der Radierung bis zum Druck das Entstehen einer Grafik miterleben. Wer Lu
 st hat\, kann gern selbst einen Tiefdruck anfertigen.\n\nKontakt:\n\nLandk
 reis Havelland\nPlatz der Freiheit 1\n14712 Rathenow\nTelefon: \nEmail: \n
 \nWeitere Informationen zur Veranstaltung: http://www.reiseland-brandenbur
 g.de/veranstaltung/havelland/offene-ateliers-2026-offenes-atelier-im-kultu
 rzentrum
CATEGORIES:Ausstellung
DTSTAMP:20260424T104444Z
END:VEVENT
END:VCALENDAR