BEGIN:VCALENDAR
VERSION:2.0
PRODID:www.reiseland-brandenburg.de
BEGIN:VEVENT
UID:69ea5898253df
DTSTART:20260524T120000Z
SEQUENCE:0
TRANSP:OPAQUE
DTEND:20260524T140000Z
URL:http://www.reiseland-brandenburg.de/veranstaltung/flaeming/es-war-einma
 l-und-war-auch-nicht-punkt-punkt-punkt
LOCATION:Landschafts- und Kunstverein Rietzer Berg\, Rietzer Siedlung 11\, 
 14797 Kloster Lehnin
X-APPLE-STRUCTURED-LOCATION;VALUE=URI;X-ADDRESS="Landschafts- und Kunstvere
 in Rietzer Berg, Rietzer Siedlung 11, 14797 Kloster Lehnin";X-APPLE-RADIUS
 =49;X-TITLE=Landschafts- und Kunstverein Rietzer Berg:geo:12.743927,52.320
 252
GEO:12.743927;52.320252
SUMMARY:ES WAR EINMAL und war auch nicht…
CLASS:PUBLIC
DESCRIPTION:Märchen begleiten die Menschheit seit Jahrtausenden. Weitergeg
 eben von Generation zu Generation\, sind sie voller Fantasie\, rauer Gerec
 htigkeit und Wunder – und tief mit unseren Kindheitserinnerungen verbund
 en.\n\nTon und Kirschen erweckt diesen Zauber neu: mit Schauspiel\, Musik\
 , Tanz sowie Marionetten- und Maskenspiel entsteht ein gemeinsames Erlebni
 s\, das Raum für eigene Bilder lässt.\n\nDenn auch das Ungesagte erzähl
 t seine Geschichte.\n\nDas Wandertheater Ton und Kirschen  \nGegründet 19
 92 von Margarete Biereye und David Johnston in Glindow bei Potsdam\, verbi
 ndet das Ensemble langjährige internationale Theatererfahrung mit eigener
  kreativer Arbeit. Von Brandenburg aus tourt das Theater mit seinen Produk
 tionen durch Deutschland und weltweit zu Festivals – von Europa bis nach
  Asien\, Nordafrika und Südamerika. Das siebenköpfige\, internationale E
 nsemble bringt Schauspiel\, Musik und visuelle Kunst in eindrucksvollen In
 szenierungen zusammen.\n\nEintritt gegen eine Spende.\n\nKontakt:\n\nLands
 chafts- und Kunstverein Rietzer Berg\nRietzer Siedlung 11\n14797 Kloster L
 ehnin\nTelefon: +49 3381 211438\nEmail: info@rietzerberg.de\n\nWeitere Inf
 ormationen zur Veranstaltung: http://www.reiseland-brandenburg.de/veransta
 ltung/flaeming/es-war-einmal-und-war-auch-nicht-punkt-punkt-punkt
CATEGORIES:Theater / Tanz / Kabarett
DTSTAMP:20260423T173624Z
END:VEVENT
END:VCALENDAR