BEGIN:VCALENDAR
VERSION:2.0
PRODID:www.reiseland-brandenburg.de
BEGIN:VEVENT
UID:69ed3fc6a8409
DTSTART:20260501T090000Z
SEQUENCE:0
TRANSP:OPAQUE
DTEND:20260501T170000Z
URL:http://www.reiseland-brandenburg.de/veranstaltung/flaeming/kleine-baumb
 luete-2026
LOCATION:Aus Liebe zum Obst - Hausgemachter Obstwein\, Ebelshof 14\, 14959 
 Trebbin
X-APPLE-STRUCTURED-LOCATION;VALUE=URI;X-ADDRESS="Aus Liebe zum Obst - Hausg
 emachter Obstwein, Ebelshof 14, 14959 Trebbin";X-APPLE-RADIUS=49;X-TITLE=A
 us Liebe zum Obst - Hausgemachter Obstwein:geo:13.213753,52.181648
GEO:13.213753;52.181648
SUMMARY:Kleine Baumblüte 2026
CLASS:PUBLIC
DESCRIPTION:Bereits zum vierten Mal findet die Kleine Baumblüte statt. Neb
 en hausgemachten Obstweinen erwartet die Besucher ein buntes kulinarisches
  Angebot sowie ein abwechslungsreiches kulturelles Rahmenprogramm. Den Abs
 chluss des Hoffestes bildet am Samstagabend der Auftritt der Jugendband 
 „Punktlandung\" der Kreismusikschule Teltow-Fläming.\n\nKontakt:\n\nObs
 tweinliebe Harald Gentz\nEbelshof 14\n14959 Trebbin\nTelefon: +49 01516886
 3364\nEmail: \n\nWeitere Informationen zur Veranstaltung: http://www.reise
 land-brandenburg.de/veranstaltung/flaeming/kleine-baumbluete-2026
CATEGORIES:Fest / Brauchtum
DTSTAMP:20260425T222718Z
END:VEVENT
BEGIN:VEVENT
UID:69ed3fc6ac47c
DTSTART:20260502T090000Z
SEQUENCE:0
TRANSP:OPAQUE
DTEND:20260502T160000Z
URL:http://www.reiseland-brandenburg.de/veranstaltung/flaeming/kleine-baumb
 luete-2026
LOCATION:Aus Liebe zum Obst - Hausgemachter Obstwein\, Ebelshof 14\, 14959 
 Trebbin
X-APPLE-STRUCTURED-LOCATION;VALUE=URI;X-ADDRESS="Aus Liebe zum Obst - Hausg
 emachter Obstwein, Ebelshof 14, 14959 Trebbin";X-APPLE-RADIUS=49;X-TITLE=A
 us Liebe zum Obst - Hausgemachter Obstwein:geo:13.213753,52.181648
GEO:13.213753;52.181648
SUMMARY:Kleine Baumblüte 2026
CLASS:PUBLIC
DESCRIPTION:Bereits zum vierten Mal findet die Kleine Baumblüte statt. Neb
 en hausgemachten Obstweinen erwartet die Besucher ein buntes kulinarisches
  Angebot sowie ein abwechslungsreiches kulturelles Rahmenprogramm. Den Abs
 chluss des Hoffestes bildet am Samstagabend der Auftritt der Jugendband 
 „Punktlandung\" der Kreismusikschule Teltow-Fläming.\n\nKontakt:\n\nObs
 tweinliebe Harald Gentz\nEbelshof 14\n14959 Trebbin\nTelefon: +49 01516886
 3364\nEmail: \n\nWeitere Informationen zur Veranstaltung: http://www.reise
 land-brandenburg.de/veranstaltung/flaeming/kleine-baumbluete-2026
CATEGORIES:Fest / Brauchtum
DTSTAMP:20260425T222718Z
END:VEVENT
END:VCALENDAR