BEGIN:VCALENDAR
VERSION:2.0
PRODID:www.reiseland-brandenburg.de
BEGIN:VEVENT
UID:69ea46053d2bd
DTSTART:20260517T120000Z
SEQUENCE:0
TRANSP:OPAQUE
DTEND:20260517T150000Z
URL:http://www.reiseland-brandenburg.de/veranstaltung/flaeming/konzert-henr
 y-schwedler
LOCATION:Landschafts- und Kunstverein Rietzer Berg\, Rietzer Siedlung 11\, 
 14797 Kloster Lehnin
X-APPLE-STRUCTURED-LOCATION;VALUE=URI;X-ADDRESS="Landschafts- und Kunstvere
 in Rietzer Berg, Rietzer Siedlung 11, 14797 Kloster Lehnin";X-APPLE-RADIUS
 =49;X-TITLE=Landschafts- und Kunstverein Rietzer Berg:geo:12.743927,52.320
 252
GEO:12.743927;52.320252
SUMMARY:Konzert Henry Schwedler
CLASS:PUBLIC
DESCRIPTION:Freut euch auf einen besonderen Abend voller Musik\, Emotionen 
 und Überraschungen bei einem einzigartigen Konzerterlebnis mit Henry Schw
 edler.\n\nMit seiner Akustikgitarre und ausdrucksstarken Stimme präsentie
 rt er eine vielseitige Mischung aus eigenen\, deutschsprachigen Songs – 
 mal nachdenklich und tiefgehend\, mal leicht und schwungvoll. Jedes Lied e
 rzählt seine eigene Geschichte und berührt auf ganz unterschiedliche Wei
 se.\n\nNeben seinen Eigenkompositionen dürfen ihr euch auch auf bekannte 
 Melodien freuen\, die zum Mitsingen und Mitfühlen einladen – ein Nachmi
 ttag\, der verbindet und begeistert.\n\nDer Eintritt zum Konzert ist ein k
 ulinarischer Beitrag zu unserem offenen Büffet. Bringt gern eine Kleinigk
 eit zum Teilen mit.\n\nKontakt:\n\nLandschafts- und Kunstverein Rietzer Be
 rg\nRietzer Siedlung 11\n14797 Kloster Lehnin\nTelefon: +49 3381 211438\nE
 mail: info@rietzerberg.de\n\nWeitere Informationen zur Veranstaltung: http
 ://www.reiseland-brandenburg.de/veranstaltung/flaeming/konzert-henry-schwe
 dler
CATEGORIES:Chor / Folklore / Volksmusik
DTSTAMP:20260423T161709Z
END:VEVENT
END:VCALENDAR