BEGIN:VCALENDAR
VERSION:2.0
PRODID:www.reiseland-brandenburg.de
BEGIN:VEVENT
UID:69ea022a5f07a
DTSTART:20260430T130000Z
SEQUENCE:0
TRANSP:OPAQUE
DTEND:20260430T160000Z
URL:http://www.reiseland-brandenburg.de/veranstaltung/flaeming/pflanzentaus
 chboerse
LOCATION:Mehrgenerationenhaus Brück\, Friedrich-Ludwig-Jahn-Straße\, 1482
 2 Brück
X-APPLE-STRUCTURED-LOCATION;VALUE=URI;X-ADDRESS="Mehrgenerationenhaus Brüc
 k, Friedrich-Ludwig-Jahn-Straße, 14822 Brück";X-APPLE-RADIUS=49;X-TITLE=
 Mehrgenerationenhaus Brück:geo:12.754467,52.187281
GEO:12.754467;52.187281
SUMMARY:Pflanzentauschbörse
CLASS:PUBLIC
DESCRIPTION:Das AWO Mehrgenerationenhaus \"Alte Korbmacherei\" in Brück l
 ädt wie in den letzten Jahren zur kostenfreien Pflanzentauschbörse ein. 
 \n\nGetauscht werden Pflanzen\, Ableger\, Saatgut\, Bücher\, Ideen und Er
 fahrungen.\n\nDas Motto lautet: Geben\, Nehmen\, Tauschen.\n\nKontakt:\n\n
 AWO Mehrgenerationshaus \"Alte Korbmacherei\"\nFriedrich-Ludwig-Jahn-Stra
 ße 4D\n14822 Brück\nTelefon: +49 033844 447\nEmail: jasmin.oldag@awo-pot
 sdam.de\n\nWeitere Informationen zur Veranstaltung: http://www.reiseland-b
 randenburg.de/veranstaltung/flaeming/pflanzentauschboerse
CATEGORIES:Markt
DTSTAMP:20260423T112738Z
END:VEVENT
END:VCALENDAR