BEGIN:VCALENDAR
VERSION:2.0
PRODID:www.reiseland-brandenburg.de
BEGIN:VEVENT
UID:69eb4b79197c0
DTSTART:20260502T110000Z
SEQUENCE:0
TRANSP:OPAQUE
DTEND:20260502T150000Z
URL:http://www.reiseland-brandenburg.de/veranstaltung/lausitzer-seenland/ta
 ge-der-offenen-ateliers-stadt-cottbus-und-landkreis-spree-neisse
LOCATION:Stadt Guben\, Stadt Guben\, 03172 
X-APPLE-STRUCTURED-LOCATION;VALUE=URI;X-ADDRESS="Stadt Guben, Stadt Guben, 
 03172 ";X-APPLE-RADIUS=49;X-TITLE=Stadt Guben:geo:14.695565,51.951486
GEO:14.695565;51.951486
SUMMARY:Tage der offenen Ateliers Stadt Cottbus & Landkreis Spree-Neiße
CLASS:PUBLIC
DESCRIPTION:Am 2.und 3. Mai 2026 finden die Tage der offenen Ateliers in de
 r Stadt Cottbus und im Landkreis Spree-Neiße statt. Dazu laden auch Guben
 er Künstler in ihre Ateliers ein.\n\n \n\nAtelier im Zippel - Ute Wiesenh
 ütter ( Malerei\, Grafik\, Bildhauerei)\n\nMittelstraße 18\, 03172 Guben
  \n\nGastkünstlerin: Ines May ( Malerei )\n\nGeöffnet: an beiden Tagen\n
 \nMitmachaktion: am Samstag von 14 - 17 Uhr und am Sonntag von 13 - 17 Uhr
  bieten wir eine Mitmachaktion an. Unter Anleitung der Künstlerinnen kann
  mit einer besonderen Technik ein eigenes Kunstwerk kreiert werden. Für M
 aterialien wird ein Unkostenbeitrag von 8\,00 Euro erhoben.\n\n\\---------
 -\n\nAtelier 3f Bettina Pfeiffer ( Keramik\, Grafik)\n\nStraße der Jugend
  19\, 03172 Guben\n\nGastkünstlerin: Beatrice During ( Grafik\, Zeichnung
 en )\n\nGeöffnet: an beiden Tagen\n\n\\----------\n\nAtelier Manfred Ewer
 sbach ( Malerei\, Grafik )\n\nAm Waldrand 20\, 03172 Schenkendöbern OT Ta
 ubendorf\n\nGastkünstler*innen: Rally Ewersbach ( Show Ballonkunst)\, Ing
 e Ewersbach ( Kunst am Ei )\n\nGeöffnet: an beiden Tagen\n\nSamstag 11 - 
 17 Uhr Führungen und Showmalen\n\nSonntag 10 - 18 Uhr Arbeitstechniken\n\
 n \n\nWir freuen uns alle auf viele interessierte Besucher und anregende G
 espräche.\n\nKontakt:\n\nStadt Cottbus\nNeumerkt 5\n03046 Cottbus\nTelefo
 n: +49 355 6120\nEmail: \nWebseite: https://www.cottbus.de\n\nWeitere Info
 rmationen zur Veranstaltung: http://www.reiseland-brandenburg.de/veranstal
 tung/lausitzer-seenland/tage-der-offenen-ateliers-stadt-cottbus-und-landkr
 eis-spree-neisse
CATEGORIES:Ausstellung,Workshop / Seminar
DTSTAMP:20260424T105241Z
END:VEVENT
BEGIN:VEVENT
UID:69eb4b791a14f
DTSTART:20260503T080000Z
SEQUENCE:0
TRANSP:OPAQUE
DTEND:20260503T160000Z
URL:http://www.reiseland-brandenburg.de/veranstaltung/lausitzer-seenland/ta
 ge-der-offenen-ateliers-stadt-cottbus-und-landkreis-spree-neisse
LOCATION:Stadt Guben\, Stadt Guben\, 03172 
X-APPLE-STRUCTURED-LOCATION;VALUE=URI;X-ADDRESS="Stadt Guben, Stadt Guben, 
 03172 ";X-APPLE-RADIUS=49;X-TITLE=Stadt Guben:geo:14.695565,51.951486
GEO:14.695565;51.951486
SUMMARY:Tage der offenen Ateliers Stadt Cottbus & Landkreis Spree-Neiße
CLASS:PUBLIC
DESCRIPTION:Am 2.und 3. Mai 2026 finden die Tage der offenen Ateliers in de
 r Stadt Cottbus und im Landkreis Spree-Neiße statt. Dazu laden auch Guben
 er Künstler in ihre Ateliers ein.\n\n \n\nAtelier im Zippel - Ute Wiesenh
 ütter ( Malerei\, Grafik\, Bildhauerei)\n\nMittelstraße 18\, 03172 Guben
  \n\nGastkünstlerin: Ines May ( Malerei )\n\nGeöffnet: an beiden Tagen\n
 \nMitmachaktion: am Samstag von 14 - 17 Uhr und am Sonntag von 13 - 17 Uhr
  bieten wir eine Mitmachaktion an. Unter Anleitung der Künstlerinnen kann
  mit einer besonderen Technik ein eigenes Kunstwerk kreiert werden. Für M
 aterialien wird ein Unkostenbeitrag von 8\,00 Euro erhoben.\n\n\\---------
 -\n\nAtelier 3f Bettina Pfeiffer ( Keramik\, Grafik)\n\nStraße der Jugend
  19\, 03172 Guben\n\nGastkünstlerin: Beatrice During ( Grafik\, Zeichnung
 en )\n\nGeöffnet: an beiden Tagen\n\n\\----------\n\nAtelier Manfred Ewer
 sbach ( Malerei\, Grafik )\n\nAm Waldrand 20\, 03172 Schenkendöbern OT Ta
 ubendorf\n\nGastkünstler*innen: Rally Ewersbach ( Show Ballonkunst)\, Ing
 e Ewersbach ( Kunst am Ei )\n\nGeöffnet: an beiden Tagen\n\nSamstag 11 - 
 17 Uhr Führungen und Showmalen\n\nSonntag 10 - 18 Uhr Arbeitstechniken\n\
 n \n\nWir freuen uns alle auf viele interessierte Besucher und anregende G
 espräche.\n\nKontakt:\n\nStadt Cottbus\nNeumerkt 5\n03046 Cottbus\nTelefo
 n: +49 355 6120\nEmail: \nWebseite: https://www.cottbus.de\n\nWeitere Info
 rmationen zur Veranstaltung: http://www.reiseland-brandenburg.de/veranstal
 tung/lausitzer-seenland/tage-der-offenen-ateliers-stadt-cottbus-und-landkr
 eis-spree-neisse
CATEGORIES:Ausstellung,Workshop / Seminar
DTSTAMP:20260424T105241Z
END:VEVENT
END:VCALENDAR