BEGIN:VCALENDAR
VERSION:2.0
PRODID:www.reiseland-brandenburg.de
BEGIN:VEVENT
UID:69ebb321ae833
DTSTART:20260426T150000Z
SEQUENCE:0
TRANSP:OPAQUE
DTEND:20260426T170000Z
URL:http://www.reiseland-brandenburg.de/veranstaltung/barnimer-land/orgelko
 nzert-in-der-kreuzkirche-joachimsthal
LOCATION:Kreuzkirche Joachimsthal\, Kirchstraße\, 16247 Joachimsthal
X-APPLE-STRUCTURED-LOCATION;VALUE=URI;X-ADDRESS="Kreuzkirche Joachimsthal, 
 Kirchstraße, 16247 Joachimsthal";X-APPLE-RADIUS=49;X-TITLE=Kreuzkirche Jo
 achimsthal:geo:13.741878,52.977535
GEO:13.741878;52.977535
SUMMARY:Orgelkonzert in der Kreuzkirche Joachimsthal
CLASS:PUBLIC
DESCRIPTION:An diesem Nachmittag gibt der überregional als Fahrradkantor b
 ekannte Organist Martin Schulze um 17.00 Uhr ein Konzert in der Kreuzkirch
 e Joachimsthal. In seinem Programm widmet er sich unter anderem Manfred Sc
 hlenker\, einem der bedeutendsten Komponisten für die neuere ostdeutsche 
 Kirchenmusik. Er wäre in diesem Jahr hundert Jahre alt geworden. Diese ni
 cht immer leicht zugängliche aber dafür tiefe Musik wird umrahmt durch W
 erke aus der Epoche der Romantik. Der in Frankfurt an der Oder ansässige 
 Musiker fährt zu jedem seiner Konzerte teilweise hunderte Kilometer mit d
 em Fahrrad. Am Konzertort wechselt er dann vom Fahrradpedal ans Orgelpedal
 . Seine Konzerte erfreuen sich hoher Beliebtheit.\n\nKontakt:\n\nEvangelis
 ches Pfarramt Joachimsthal\nKirchstraße 1\n16247 Joachimsthal\nTelefon: +
 49 33361 268\nEmail: d.koppehl@kirche-barnim.de\n\nWeitere Informationen z
 ur Veranstaltung: http://www.reiseland-brandenburg.de/veranstaltung/barnim
 er-land/orgelkonzert-in-der-kreuzkirche-joachimsthal
CATEGORIES:Chor / Folklore / Volksmusik
DTSTAMP:20260424T181457Z
END:VEVENT
END:VCALENDAR