BEGIN:VCALENDAR
VERSION:2.0
PRODID:www.reiseland-brandenburg.de
BEGIN:VEVENT
UID:69e8b0b76e866
DTSTART:20260521T140000Z
SEQUENCE:0
TRANSP:OPAQUE
DTEND:20260521T160000Z
URL:http://www.reiseland-brandenburg.de/veranstaltung/havelland/in-die-pfla
 nzenwelt-des-muhrgraben
LOCATION:Muhrgraben mit Teufelsbruch\, Bötzower Landstraße 1\, 14621 Sch
 önwalde-Glien
X-APPLE-STRUCTURED-LOCATION;VALUE=URI;X-ADDRESS="Muhrgraben mit Teufelsbruc
 h, Bötzower Landstraße 1, 14621 Schönwalde-Glien";X-APPLE-RADIUS=49;X-T
 ITLE=Muhrgraben mit Teufelsbruch:geo:13.125922,52.615370
GEO:13.125922;52.615370
SUMMARY:In die Pflanzenwelt des Muhrgraben
CLASS:PUBLIC
DESCRIPTION:Nur wenige Meter von der Grenze zu Berlin liegt das Fauna-Flora
 -Habitat(FFH)-Gebiet \"Muhrgraben mit Teufelsbruch\" - unter Schutz gestel
 lt unter anderem wegen der botanischen Besonderheiten\, auf seinen Feuchtw
 iesen wachsen. Neben der violett blühenden Sibirischen Schwertlilie und g
 elbem Wundklee gibt es hier auch noch heimische Orchideenarten wie den Sum
 pf-Stendelwurz und das Fleischfarbene Knabenkraut. Zur Feier des Natura-20
 00-Tages lädt das Natura-2000-Team Nordwest und Natur Hennigsdorf e. V. z
 u einem naturkundlichen Ausflug in diese Pflanzenwelt ein. Auf der Rundwan
 derung von etwa 4\,5 km durch die Schönwalder Wiesen gibt es außerdem ei
 nen Einblick in die naturschutzfachlichen Bemühungen zum Erhalt dieser ar
 tenreichen Flächen.\n\nWitterungsangepasste Kleidung\, Sonnenschutz sowie
  Gummistiefel und das Mitnehmen von Getränken wird empfohlen.\n\nKontakt:
 \n\nStiftung Naturschutzfonds Brandenburg\nHeinrich-Mann-Allee 18/19\n1447
 3 Potsdam\nTelefon: \nEmail: \n\nWeitere Informationen zur Veranstaltung: 
 http://www.reiseland-brandenburg.de/veranstaltung/havelland/in-die-pflanze
 nwelt-des-muhrgraben
CATEGORIES:Führung / Besichtigung
DTSTAMP:20260422T112752Z
END:VEVENT
END:VCALENDAR