BEGIN:VCALENDAR
VERSION:2.0
PRODID:www.reiseland-brandenburg.de
BEGIN:VEVENT
UID:69e8b0dd3c2b5
DTSTART:20260502T120000Z
SEQUENCE:0
TRANSP:OPAQUE
DTEND:20260502T160000Z
URL:http://www.reiseland-brandenburg.de/veranstaltung/havelland/offene-atel
 iers-2026-atelier-tobias-kielinger
LOCATION:Atelier Tobias Kielinger\, Rudolf-Breitscheid-Straße  6\, 14669 K
 etzin/Havel
X-APPLE-STRUCTURED-LOCATION;VALUE=URI;X-ADDRESS="Atelier Tobias Kielinger, 
 Rudolf-Breitscheid-Straße  6, 14669 Ketzin/Havel";X-APPLE-RADIUS=49;X-TIT
 LE=Atelier Tobias Kielinger:geo:12.843885,52.476755
GEO:12.843885;52.476755
SUMMARY:Offene Ateliers 2026 - Atelier Tobias Kielinger
CLASS:PUBLIC
DESCRIPTION:Malerei\, Performance/Aktionskunst\, Konzeptkunst\n\nKontakt:\n
 \nLandkreis Havelland\nPlatz der Freiheit 1\n14712 Rathenow\nTelefon: \nEm
 ail: \n\nWeitere Informationen zur Veranstaltung: http://www.reiseland-bra
 ndenburg.de/veranstaltung/havelland/offene-ateliers-2026-atelier-tobias-ki
 elinger
CATEGORIES:Ausstellung
DTSTAMP:20260422T112829Z
END:VEVENT
BEGIN:VEVENT
UID:69e8b0dd3f08b
DTSTART:20260503T090000Z
SEQUENCE:0
TRANSP:OPAQUE
DTEND:20260503T160000Z
URL:http://www.reiseland-brandenburg.de/veranstaltung/havelland/offene-atel
 iers-2026-atelier-tobias-kielinger
LOCATION:Atelier Tobias Kielinger\, Rudolf-Breitscheid-Straße  6\, 14669 K
 etzin/Havel
X-APPLE-STRUCTURED-LOCATION;VALUE=URI;X-ADDRESS="Atelier Tobias Kielinger, 
 Rudolf-Breitscheid-Straße  6, 14669 Ketzin/Havel";X-APPLE-RADIUS=49;X-TIT
 LE=Atelier Tobias Kielinger:geo:12.843885,52.476755
GEO:12.843885;52.476755
SUMMARY:Offene Ateliers 2026 - Atelier Tobias Kielinger
CLASS:PUBLIC
DESCRIPTION:Malerei\, Performance/Aktionskunst\, Konzeptkunst\n\nKontakt:\n
 \nLandkreis Havelland\nPlatz der Freiheit 1\n14712 Rathenow\nTelefon: \nEm
 ail: \n\nWeitere Informationen zur Veranstaltung: http://www.reiseland-bra
 ndenburg.de/veranstaltung/havelland/offene-ateliers-2026-atelier-tobias-ki
 elinger
CATEGORIES:Ausstellung
DTSTAMP:20260422T112829Z
END:VEVENT
END:VCALENDAR